
BEGIN:VCALENDAR
VERSION:2.0
PRODID:-//Oncology News, Insights, Stories by OncoDaily - ECPv6.15.20//NONSGML v1.0//EN
CALSCALE:GREGORIAN
METHOD:PUBLISH
X-WR-CALNAME:Oncology News, Insights, Stories by OncoDaily
X-ORIGINAL-URL:https://oncodaily.com
X-WR-CALDESC:Events for Oncology News, Insights, Stories by OncoDaily
REFRESH-INTERVAL;VALUE=DURATION:PT1H
X-Robots-Tag:noindex
X-PUBLISHED-TTL:PT1H
BEGIN:VTIMEZONE
TZID:America/Halifax
BEGIN:DAYLIGHT
TZOFFSETFROM:-0400
TZOFFSETTO:-0300
TZNAME:ADT
DTSTART:20250309T060000
END:DAYLIGHT
BEGIN:STANDARD
TZOFFSETFROM:-0300
TZOFFSETTO:-0400
TZNAME:AST
DTSTART:20251102T050000
END:STANDARD
BEGIN:DAYLIGHT
TZOFFSETFROM:-0400
TZOFFSETTO:-0300
TZNAME:ADT
DTSTART:20260308T060000
END:DAYLIGHT
BEGIN:STANDARD
TZOFFSETFROM:-0300
TZOFFSETTO:-0400
TZNAME:AST
DTSTART:20261101T050000
END:STANDARD
BEGIN:DAYLIGHT
TZOFFSETFROM:-0400
TZOFFSETTO:-0300
TZNAME:ADT
DTSTART:20270314T060000
END:DAYLIGHT
BEGIN:STANDARD
TZOFFSETFROM:-0300
TZOFFSETTO:-0400
TZNAME:AST
DTSTART:20271107T050000
END:STANDARD
END:VTIMEZONE
BEGIN:VEVENT
DTSTART;VALUE=DATE:20260313
DTEND;VALUE=DATE:20260315
DTSTAMP:20260424T051239
CREATED:20251204T111916Z
LAST-MODIFIED:20251204T120659Z
UID:10000442-1773360000-1773532799@oncodaily.com
SUMMARY:APPOS Boston 2026: Advanced Practice Providers Oncology Summit
DESCRIPTION:The APPOS Boston 2026: Advanced Practice Providers Oncology Summit returns to Massachusetts\, a two-day continuing education conference taking place March 13–14\, 2026\, in Waltham.  \nDesigned for advanced practice providers\, this program delivers the latest updates in multidisciplinary cancer care\, practical patient management\, and interprofessional collaboration. Attendees will have the opportunity to earn CE credits while gaining evidence-based strategies to enhance oncology practice and improve communication across the healthcare team. \nRegister.
URL:https://oncodaily.com/event/appos-boston-421264
LOCATION:The Westin Waltham Boston\, 70 Third Ave.\, Waltham\, MA\, 02451\, United States
ATTACH;FMTTYPE=image/webp:https://oncodaily.com/pub/uploads/2025/12/BeFunky-collage-2025-12-04T151840165-Picsart-AiImageEnhancer.webp
ORGANIZER;CN="Horizon CME":MAILTO:info@horizoncme.com
END:VEVENT
BEGIN:VEVENT
DTSTART;VALUE=DATE:20260207
DTEND;VALUE=DATE:20260208
DTSTAMP:20260424T051239
CREATED:20251215T185422Z
LAST-MODIFIED:20251215T190113Z
UID:10000496-1770422400-1770508799@oncodaily.com
SUMMARY:OPN New England Chapter Conference 2026
DESCRIPTION:The 2026 OPN New England Chapter Conference is a single-day educational summit hosted by the Oncology Pharmacy Network\, scheduled for February 7\, 2026. \nThe event will take place at The Westin Waltham Boston in Waltham\, Massachusetts\, United States. It is planned for hematology/oncology pharmacy clinicians\, including pharmacists\, pharmacy technicians\, and other healthcare professionals involved in oncology pharmacy\, providing a platform for professionals in the community to network\, collaborate\, and share best practices to advance the field of oncology pharmacy. Attendees can earn up to 6.00 ACPE Pharmacy credits for participation in the live activity. \nRegister.
URL:https://oncodaily.com/event/opn-new-england-429001
LOCATION:The Westin Waltham Boston\, 70 Third Ave.\, Waltham\, MA\, 02451\, United States
ATTACH;FMTTYPE=image/webp:https://oncodaily.com/pub/uploads/2025/12/OPN-New-England.webp
END:VEVENT
BEGIN:VEVENT
DTSTART;VALUE=DATE:20260131
DTEND;VALUE=DATE:20260202
DTSTAMP:20260424T051239
CREATED:20251207T215410Z
LAST-MODIFIED:20251207T215421Z
UID:10000465-1769817600-1769990399@oncodaily.com
SUMMARY:Insights from the 67th ASH Annual Meeting - Boston
DESCRIPTION:This educational program\, “Insights from the 67th ASH Annual Meeting – Boston\,” is an independent\, two-day Continuing Medical Education (CME) conference hosted by Horizon CME at The Westin Waltham Boston on January 31–February 1\, 2026. \nThe program is designed for hematologists/oncologists\, nurses\, pharmacists\, and other healthcare professionals and focuses on providing the latest science and education from the world’s premier hematology event. \nExpert faculty will offer in-depth discussions and analyses of selected abstracts\, focusing on practice-changing advances in the treatment of blood disorders and cancers\, including sessions on Myelodysplastic Syndromes\, Acute Leukemias\, Lymphomas\, Cell Therapy (including CAR-T)\, and Hematopoietic Stem Cell Transplantation. The event offers up to 9.75 AMA PRA Category 1 Credit™ and ABIM MOC points. \nRegister.
URL:https://oncodaily.com/event/67th-ash-annual-meeting-423775
LOCATION:The Westin Waltham Boston\, 70 Third Ave.\, Waltham\, MA\, 02451\, United States
ATTACH;FMTTYPE=image/webp:https://oncodaily.com/pub/uploads/2025/12/Screenshot-2025-12-08-015335.webp
ORGANIZER;CN="Horizon CME":MAILTO:info@horizoncme.com
END:VEVENT
END:VCALENDAR