
BEGIN:VCALENDAR
VERSION:2.0
PRODID:-//Oncology News, Insights, Stories by OncoDaily - ECPv6.15.20//NONSGML v1.0//EN
CALSCALE:GREGORIAN
METHOD:PUBLISH
X-ORIGINAL-URL:https://oncodaily.com
X-WR-CALDESC:Events for Oncology News, Insights, Stories by OncoDaily
REFRESH-INTERVAL;VALUE=DURATION:PT1H
X-Robots-Tag:noindex
X-PUBLISHED-TTL:PT1H
BEGIN:VTIMEZONE
TZID:America/Halifax
BEGIN:DAYLIGHT
TZOFFSETFROM:-0400
TZOFFSETTO:-0300
TZNAME:ADT
DTSTART:20250309T060000
END:DAYLIGHT
BEGIN:STANDARD
TZOFFSETFROM:-0300
TZOFFSETTO:-0400
TZNAME:AST
DTSTART:20251102T050000
END:STANDARD
BEGIN:DAYLIGHT
TZOFFSETFROM:-0400
TZOFFSETTO:-0300
TZNAME:ADT
DTSTART:20260308T060000
END:DAYLIGHT
BEGIN:STANDARD
TZOFFSETFROM:-0300
TZOFFSETTO:-0400
TZNAME:AST
DTSTART:20261101T050000
END:STANDARD
BEGIN:DAYLIGHT
TZOFFSETFROM:-0400
TZOFFSETTO:-0300
TZNAME:ADT
DTSTART:20270314T060000
END:DAYLIGHT
BEGIN:STANDARD
TZOFFSETFROM:-0300
TZOFFSETTO:-0400
TZNAME:AST
DTSTART:20271107T050000
END:STANDARD
END:VTIMEZONE
BEGIN:VEVENT
DTSTART;VALUE=DATE:20260411
DTEND;VALUE=DATE:20260412
DTSTAMP:20260423T103104
CREATED:20251215T192936Z
LAST-MODIFIED:20251215T192947Z
UID:10000500-1775865600-1775951999@oncodaily.com
SUMMARY:2026 OPN Florida Chapter Conference
DESCRIPTION:The 2026 OPN Florida Chapter Conference\, organized by the Oncology Pharmacy Network (OPN) and Horizon CME\, is a single-day event for hematology/oncology pharmacy clinicians\, including pharmacists and technicians\, to share best practices and enhance their expertise in cancer care. \nScheduled for April 11\, 2026\, the conference will take place at The Westin Tampa Waterside in Tampa\, Florida\, United States. The program is set to cover the latest evidence-based strategies\, including updates on small cell lung cancer\, follicular lymphoma\, treatments for non-muscle invasive bladder cancer\, and AML updates on menin inhibitors. Attendees can earn up to 6.00 continuing education credits.
URL:https://oncodaily.com/event/opn-florida-429058
LOCATION:The Westin Tampa Waterside\, 725 South Harbour Island Boulevard\, Tampa\, FL\, 33602\, United States
ATTACH;FMTTYPE=image/webp:https://oncodaily.com/pub/uploads/2025/12/OPN-Florida.webp
ORGANIZER;CN="Horizon CME":MAILTO:info@horizoncme.com
END:VEVENT
BEGIN:VEVENT
DTSTART;VALUE=DATE:20260410
DTEND;VALUE=DATE:20260412
DTSTAMP:20260423T103104
CREATED:20250223T115328Z
LAST-MODIFIED:20260224T114134Z
UID:10000444-1775779200-1775951999@oncodaily.com
SUMMARY:APPOS Tampa 2026: Advanced Practice Providers Oncology Summit
DESCRIPTION:The APPOS Tampa 2026: Advanced Practice Providers Oncology Summit will be held April 10–11\, 2026\, in Tampa\, Florida\, USA. \nThis two-day conference is designed for advanced practice providers—including nurse practitioners\, physician assistants\, pharmacists\, and oncology nurses—and focuses on evidence-based strategies for the multidisciplinary treatment and management of oncology patients. Attendees can earn continuing education (CE) credits while learning practical approaches to improve patient care and interprofessional collaboration. \nRegister.
URL:https://oncodaily.com/event/appos-tampa-421301
LOCATION:The Westin Tampa Waterside\, 725 South Harbour Island Boulevard\, Tampa\, FL\, 33602\, United States
ATTACH;FMTTYPE=image/webp:https://oncodaily.com/pub/uploads/2025/12/BeFunky-collage-2025-12-04T155305865-Picsart-AiImageEnhancer.webp
ORGANIZER;CN="Horizon CME":MAILTO:info@horizoncme.com
END:VEVENT
END:VCALENDAR