
BEGIN:VCALENDAR
VERSION:2.0
PRODID:-//Oncology News, Insights, Stories by OncoDaily - ECPv6.15.20//NONSGML v1.0//EN
CALSCALE:GREGORIAN
METHOD:PUBLISH
X-WR-CALNAME:Oncology News, Insights, Stories by OncoDaily
X-ORIGINAL-URL:https://oncodaily.com
X-WR-CALDESC:Events for Oncology News, Insights, Stories by OncoDaily
REFRESH-INTERVAL;VALUE=DURATION:PT1H
X-Robots-Tag:noindex
X-PUBLISHED-TTL:PT1H
BEGIN:VTIMEZONE
TZID:America/Halifax
BEGIN:DAYLIGHT
TZOFFSETFROM:-0400
TZOFFSETTO:-0300
TZNAME:ADT
DTSTART:20250309T060000
END:DAYLIGHT
BEGIN:STANDARD
TZOFFSETFROM:-0300
TZOFFSETTO:-0400
TZNAME:AST
DTSTART:20251102T050000
END:STANDARD
BEGIN:DAYLIGHT
TZOFFSETFROM:-0400
TZOFFSETTO:-0300
TZNAME:ADT
DTSTART:20260308T060000
END:DAYLIGHT
BEGIN:STANDARD
TZOFFSETFROM:-0300
TZOFFSETTO:-0400
TZNAME:AST
DTSTART:20261101T050000
END:STANDARD
BEGIN:DAYLIGHT
TZOFFSETFROM:-0400
TZOFFSETTO:-0300
TZNAME:ADT
DTSTART:20270314T060000
END:DAYLIGHT
BEGIN:STANDARD
TZOFFSETFROM:-0300
TZOFFSETTO:-0400
TZNAME:AST
DTSTART:20271107T050000
END:STANDARD
END:VTIMEZONE
BEGIN:VEVENT
DTSTART;VALUE=DATE:20260626
DTEND;VALUE=DATE:20260628
DTSTAMP:20260425T153344
CREATED:20260222T123502Z
LAST-MODIFIED:20260222T123502Z
UID:10000663-1782432000-1782604799@oncodaily.com
SUMMARY:IASLC 2026 Hot Topic in Basic and Translational Science Meeting: Resistance to Immunotherapy
DESCRIPTION:The IASLC 2026 Hot Topic in Basic and Translational Science Meeting is dedicated to one of the most formidable hurdles in thoracic oncology: Resistance to Immunotherapy. Taking place from June 26–27\, 2026\, at Trinity College Dublin\, this focused summit brings together an elite cohort of scientists and clinicians to dissect the biological mechanisms behind primary and acquired resistance. \nChaired by experts including Patrick Forde (Trinity College Dublin) and Fabrizio Bianchi (IRCCS)\, the meeting will explore the complex interplay within the tumor microenvironment (TME) and the role of emerging biomarkers. By integrating cutting-edge discovery with clinical application\, the conference serves as a critical collaborative engine for developing novel therapeutic strategies to achieve more durable outcomes for lung cancer patients worldwide. \nRegistration officially opens on March 6th.
URL:https://oncodaily.com/event/iaslc-459505
LOCATION:Synge Theatre at Trinity College Dublin\, The Arts Building\, Trinity College Dublin\, College Green\, Dublin\, D02 PN40\, Ireland
ATTACH;FMTTYPE=image/webp:https://oncodaily.com/pub/uploads/2026/02/BeFunky-collage-2026-02-22T163542.327.webp
END:VEVENT
END:VCALENDAR