
BEGIN:VCALENDAR
VERSION:2.0
PRODID:-//Oncology News, Insights, Stories by OncoDaily - ECPv6.15.20//NONSGML v1.0//EN
CALSCALE:GREGORIAN
METHOD:PUBLISH
X-ORIGINAL-URL:https://oncodaily.com
X-WR-CALDESC:Events for Oncology News, Insights, Stories by OncoDaily
REFRESH-INTERVAL;VALUE=DURATION:PT1H
X-Robots-Tag:noindex
X-PUBLISHED-TTL:PT1H
BEGIN:VTIMEZONE
TZID:America/Halifax
BEGIN:DAYLIGHT
TZOFFSETFROM:-0400
TZOFFSETTO:-0300
TZNAME:ADT
DTSTART:20240310T060000
END:DAYLIGHT
BEGIN:STANDARD
TZOFFSETFROM:-0300
TZOFFSETTO:-0400
TZNAME:AST
DTSTART:20241103T050000
END:STANDARD
BEGIN:DAYLIGHT
TZOFFSETFROM:-0400
TZOFFSETTO:-0300
TZNAME:ADT
DTSTART:20250309T060000
END:DAYLIGHT
BEGIN:STANDARD
TZOFFSETFROM:-0300
TZOFFSETTO:-0400
TZNAME:AST
DTSTART:20251102T050000
END:STANDARD
BEGIN:DAYLIGHT
TZOFFSETFROM:-0400
TZOFFSETTO:-0300
TZNAME:ADT
DTSTART:20260308T060000
END:DAYLIGHT
BEGIN:STANDARD
TZOFFSETFROM:-0300
TZOFFSETTO:-0400
TZNAME:AST
DTSTART:20261101T050000
END:STANDARD
END:VTIMEZONE
BEGIN:VEVENT
DTSTART;VALUE=DATE:20251209
DTEND;VALUE=DATE:20251213
DTSTAMP:20260421T183821
CREATED:20251015T210634Z
LAST-MODIFIED:20251210T102007Z
UID:10000281-1765238400-1765583999@oncodaily.com
SUMMARY:San Antonio Breast Cancer Symposium (SABCS) 2025
DESCRIPTION:The San Antonio Breast Cancer Symposium (SABCS) 2025 will be held from December 9–12\, 2025\, at the Henry B. González Convention Center in San Antonio\, Texas\, USA. Recognized globally as one of the leading conferences in breast cancer research and treatment\, SABCS provides an unparalleled forum for the presentation and discussion of the latest scientific advances in both experimental biology and clinical care of breast cancer. \nThe symposium brings together basic scientists\, clinicians\, and healthcare professionals from around the world to foster collaboration and exchange of knowledge that drives progress in breast cancer prevention\, diagnosis\, and therapy. With its comprehensive program of plenary lectures\, case discussions\, and abstract presentations\, SABCS 2025 will continue its tradition of promoting excellence and innovation in breast cancer research and patient care. \nYou can find more posts featuring SABCS25 on OncoDaily.
URL:https://oncodaily.com/event/san-antonio-391265
LOCATION:SABCS\, Henry B. González Convention Center\, 900 E. Market Street\, San Antonio\, Texas 78205\, San Antonio\, TX\, 78205\, United States
ATTACH;FMTTYPE=image/jpeg:https://oncodaily.com/pub/uploads/2025/10/SABCS-2025.jpg
END:VEVENT
END:VCALENDAR