
BEGIN:VCALENDAR
VERSION:2.0
PRODID:-//Oncology News, Insights, Stories by OncoDaily - ECPv6.15.20//NONSGML v1.0//EN
CALSCALE:GREGORIAN
METHOD:PUBLISH
X-WR-CALNAME:Oncology News, Insights, Stories by OncoDaily
X-ORIGINAL-URL:https://oncodaily.com
X-WR-CALDESC:Events for Oncology News, Insights, Stories by OncoDaily
REFRESH-INTERVAL;VALUE=DURATION:PT1H
X-Robots-Tag:noindex
X-PUBLISHED-TTL:PT1H
BEGIN:VTIMEZONE
TZID:America/Halifax
BEGIN:DAYLIGHT
TZOFFSETFROM:-0400
TZOFFSETTO:-0300
TZNAME:ADT
DTSTART:20240310T060000
END:DAYLIGHT
BEGIN:STANDARD
TZOFFSETFROM:-0300
TZOFFSETTO:-0400
TZNAME:AST
DTSTART:20241103T050000
END:STANDARD
BEGIN:DAYLIGHT
TZOFFSETFROM:-0400
TZOFFSETTO:-0300
TZNAME:ADT
DTSTART:20250309T060000
END:DAYLIGHT
BEGIN:STANDARD
TZOFFSETFROM:-0300
TZOFFSETTO:-0400
TZNAME:AST
DTSTART:20251102T050000
END:STANDARD
BEGIN:DAYLIGHT
TZOFFSETFROM:-0400
TZOFFSETTO:-0300
TZNAME:ADT
DTSTART:20260308T060000
END:DAYLIGHT
BEGIN:STANDARD
TZOFFSETFROM:-0300
TZOFFSETTO:-0400
TZNAME:AST
DTSTART:20261101T050000
END:STANDARD
END:VTIMEZONE
BEGIN:VEVENT
DTSTART;TZID=America/Halifax:20251015T080000
DTEND;TZID=America/Halifax:20251018T170000
DTSTAMP:20260425T134125
CREATED:20250612T155150Z
LAST-MODIFIED:20250612T160120Z
UID:10000201-1760515200-1760806800@oncodaily.com
SUMMARY:The 6th ISCAYAHL – International Symposium on Childhood\, AYA Hodgkin Lymphoma
DESCRIPTION:The 6th ISCAYAHL – International Symposium on Childhood\, Adolescent\, and Young Adult Hodgkin Lymphoma will be held from October 15 to 18\, 2025\, at the Langenbeck-Virchow-Haus in Berlin\, Germany. This event has established itself over the past 14 years as a vital forum for clinicians and researchers working in the field of Hodgkin lymphoma affecting younger populations. \nThe upcoming symposium will offer a comprehensive scientific agenda\, focusing on key areas such as survivorship outcomes\, global clinical trial initiatives\, novel therapeutic biomarkers\, cutting-edge developments in lymphoma biology\, and advanced imaging technologies. The program will also highlight the role of international collaborations in driving innovation and improving standards of care. Featured speakers at ISCAYAHL 2025 include Prof. Dr. Christine Mauz-Koerholz\, Dr. Sharon M. Castellino\, and Dr. Jamie E. Flerlage renowned experts in pediatric and young adult Hodgkin lymphoma. \nKey dates for 6th ISCAYAHL include: \n\nFebruary 28\, 2025 – Start of abstract submission\nApril 18\, 2025 – Opening of online registration\nJuly 1\, 2025 – Extended abstract submission deadline\nOctober 15–18\, 2025 – Symposium dates\n\nFurther Reading: The 6th ISCAYAHL – International Symposium on Childhood\, AYA Hodgkin Lymphoma
URL:https://oncodaily.com/event/the-6th-iscayahl-311800
LOCATION:Langenbeck-Virchow-Haus\, Luisenstr. 58/59\, Berlin\, 10117\, Belgium
ATTACH;FMTTYPE=image/png:https://oncodaily.com/pub/uploads/2025/06/OncoDaily34729-2.png
END:VEVENT
END:VCALENDAR