
BEGIN:VCALENDAR
VERSION:2.0
PRODID:-//Oncology News, Insights, Stories by OncoDaily - ECPv6.15.20//NONSGML v1.0//EN
CALSCALE:GREGORIAN
METHOD:PUBLISH
X-ORIGINAL-URL:https://oncodaily.com
X-WR-CALDESC:Events for Oncology News, Insights, Stories by OncoDaily
REFRESH-INTERVAL;VALUE=DURATION:PT1H
X-Robots-Tag:noindex
X-PUBLISHED-TTL:PT1H
BEGIN:VTIMEZONE
TZID:America/Halifax
BEGIN:DAYLIGHT
TZOFFSETFROM:-0400
TZOFFSETTO:-0300
TZNAME:ADT
DTSTART:20250309T060000
END:DAYLIGHT
BEGIN:STANDARD
TZOFFSETFROM:-0300
TZOFFSETTO:-0400
TZNAME:AST
DTSTART:20251102T050000
END:STANDARD
BEGIN:DAYLIGHT
TZOFFSETFROM:-0400
TZOFFSETTO:-0300
TZNAME:ADT
DTSTART:20260308T060000
END:DAYLIGHT
BEGIN:STANDARD
TZOFFSETFROM:-0300
TZOFFSETTO:-0400
TZNAME:AST
DTSTART:20261101T050000
END:STANDARD
BEGIN:DAYLIGHT
TZOFFSETFROM:-0400
TZOFFSETTO:-0300
TZNAME:ADT
DTSTART:20270314T060000
END:DAYLIGHT
BEGIN:STANDARD
TZOFFSETFROM:-0300
TZOFFSETTO:-0400
TZNAME:AST
DTSTART:20271107T050000
END:STANDARD
END:VTIMEZONE
BEGIN:VEVENT
DTSTART;VALUE=DATE:20260413
DTEND;VALUE=DATE:20260418
DTSTAMP:20260423T120410
CREATED:20251029T221814Z
LAST-MODIFIED:20251029T221832Z
UID:10000301-1776038400-1776470399@oncodaily.com
SUMMARY:SIOP Africa 2026
DESCRIPTION:The SIOP Africa 2026 Congress (16th Biennial Congress) will take place from April 13 to April 17\, 2026\, in Lagos\, Nigeria. The official venue for the congress is the Lagos Marriott Hotel Ikeja\, located at 122 Joel Ogunnaike Street\, Ikeja GRA\, Lagos\, Nigeria\, 100271. This biennial event is focused on advancing childhood cancer care across the African continent under the theme\, “Building collaborative networks for paediatric oncology across Africa.” \nKey deadlines for participation have been released: The Abstract Submission period begins on August 4\, 2025. Attendees looking to save on fees must take note that the Early Bird Registration window closes on January 5\, 2026\, with Online Registration closing completely on March 30\, 2026. All professionals and advocates in paediatric oncology are encouraged to join this congress to foster collaboration and drive meaningful change in the region. \nYou can find more posts featuring SIOP Africa on OncoDaily.
URL:https://oncodaily.com/event/siop-africa-2026-400506
LOCATION:Lagos Marriott Hotel Ikeja\, 122 Joel Ogunnaike St\, Ikeja GRA\, Lagos\, Lagos State\, 100271\, Nigeria
ATTACH;FMTTYPE=image/png:https://oncodaily.com/pub/uploads/2025/10/image-27.png
ORGANIZER;CN="SIOP Africa":MAILTO:africa@siop-online.org
END:VEVENT
END:VCALENDAR