
BEGIN:VCALENDAR
VERSION:2.0
PRODID:-//Oncology News, Insights, Stories by OncoDaily - ECPv6.15.20//NONSGML v1.0//EN
CALSCALE:GREGORIAN
METHOD:PUBLISH
X-WR-CALNAME:Oncology News, Insights, Stories by OncoDaily
X-ORIGINAL-URL:https://oncodaily.com
X-WR-CALDESC:Events for Oncology News, Insights, Stories by OncoDaily
REFRESH-INTERVAL;VALUE=DURATION:PT1H
X-Robots-Tag:noindex
X-PUBLISHED-TTL:PT1H
BEGIN:VTIMEZONE
TZID:America/Halifax
BEGIN:DAYLIGHT
TZOFFSETFROM:-0400
TZOFFSETTO:-0300
TZNAME:ADT
DTSTART:20250309T060000
END:DAYLIGHT
BEGIN:STANDARD
TZOFFSETFROM:-0300
TZOFFSETTO:-0400
TZNAME:AST
DTSTART:20251102T050000
END:STANDARD
BEGIN:DAYLIGHT
TZOFFSETFROM:-0400
TZOFFSETTO:-0300
TZNAME:ADT
DTSTART:20260308T060000
END:DAYLIGHT
BEGIN:STANDARD
TZOFFSETFROM:-0300
TZOFFSETTO:-0400
TZNAME:AST
DTSTART:20261101T050000
END:STANDARD
BEGIN:DAYLIGHT
TZOFFSETFROM:-0400
TZOFFSETTO:-0300
TZNAME:ADT
DTSTART:20270314T060000
END:DAYLIGHT
BEGIN:STANDARD
TZOFFSETFROM:-0300
TZOFFSETTO:-0400
TZNAME:AST
DTSTART:20271107T050000
END:STANDARD
END:VTIMEZONE
BEGIN:VEVENT
DTSTART;VALUE=DATE:20260212
DTEND;VALUE=DATE:20260214
DTSTAMP:20260420T003304
CREATED:20260118T184434Z
LAST-MODIFIED:20260118T184518Z
UID:10000592-1770854400-1771027199@oncodaily.com
SUMMARY:The 17th Assiut Clinical Oncology Department International Conference
DESCRIPTION:The 17th Assiut Clinical Oncology Department International Conference is a prominent medical gathering scheduled for February 12–13\, 2026\, in Luxor\, Egypt. \nOrganized by the Assiut University Clinical Oncology Department in collaboration with Arab Organizers\, the conference serves as a platform for oncologists and researchers to share clinical insights and discuss the latest updates in cancer treatment and management.
URL:https://oncodaily.com/event/assiut-clinical-oncology-442942
LOCATION:Jolie Ville Luxor\, Awameya Road\, Gazirat Al Awameyah\, Luxor\, 1360002\, Egypt
ATTACH;FMTTYPE=image/webp:https://oncodaily.com/pub/uploads/2026/01/17-2.webp
ORGANIZER;CN="Arab Organizers":MAILTO:info@araborganizers.org
END:VEVENT
END:VCALENDAR