
BEGIN:VCALENDAR
VERSION:2.0
PRODID:-//Oncology News, Insights, Stories by OncoDaily - ECPv6.15.20//NONSGML v1.0//EN
CALSCALE:GREGORIAN
METHOD:PUBLISH
X-WR-CALNAME:Oncology News, Insights, Stories by OncoDaily
X-ORIGINAL-URL:https://oncodaily.com
X-WR-CALDESC:Events for Oncology News, Insights, Stories by OncoDaily
REFRESH-INTERVAL;VALUE=DURATION:PT1H
X-Robots-Tag:noindex
X-PUBLISHED-TTL:PT1H
BEGIN:VTIMEZONE
TZID:America/Halifax
BEGIN:DAYLIGHT
TZOFFSETFROM:-0400
TZOFFSETTO:-0300
TZNAME:ADT
DTSTART:20250309T060000
END:DAYLIGHT
BEGIN:STANDARD
TZOFFSETFROM:-0300
TZOFFSETTO:-0400
TZNAME:AST
DTSTART:20251102T050000
END:STANDARD
BEGIN:DAYLIGHT
TZOFFSETFROM:-0400
TZOFFSETTO:-0300
TZNAME:ADT
DTSTART:20260308T060000
END:DAYLIGHT
BEGIN:STANDARD
TZOFFSETFROM:-0300
TZOFFSETTO:-0400
TZNAME:AST
DTSTART:20261101T050000
END:STANDARD
BEGIN:DAYLIGHT
TZOFFSETFROM:-0400
TZOFFSETTO:-0300
TZNAME:ADT
DTSTART:20270314T060000
END:DAYLIGHT
BEGIN:STANDARD
TZOFFSETFROM:-0300
TZOFFSETTO:-0400
TZNAME:AST
DTSTART:20271107T050000
END:STANDARD
END:VTIMEZONE
BEGIN:VEVENT
DTSTART;VALUE=DATE:20260919
DTEND;VALUE=DATE:20260920
DTSTAMP:20260423T085645
CREATED:20251217T231720Z
LAST-MODIFIED:20251217T231732Z
UID:10000506-1789776000-1789862399@oncodaily.com
SUMMARY:OPN California North Chapter Conference 2026
DESCRIPTION:The 2026 OPN California North Chapter Conference is a one-day regional summit tailored for hematology and oncology pharmacy clinicians\, including pharmacists and pharmacy technicians. \nOrganized by the Oncology Pharmacy Network (OPN) in collaboration with Horizon CME\, the conference focuses on the latest evidence-based strategies in cancer care and provides a platform for professional networking and collaboration. The event is part of a series of regional meetings aimed at optimizing patient outcomes through advanced pharmaceutical insights.
URL:https://oncodaily.com/event/opn-california-430229
LOCATION:Hilton San Francisco Airport Bayfront\, 600 Airport Blvd\, Burlingame\, CA\, 94010\, United States
ATTACH;FMTTYPE=image/webp:https://oncodaily.com/pub/uploads/2025/12/OPN-California-1.webp
END:VEVENT
END:VCALENDAR