
BEGIN:VCALENDAR
VERSION:2.0
PRODID:-//Oncology News, Insights, Stories by OncoDaily - ECPv6.15.20//NONSGML v1.0//EN
CALSCALE:GREGORIAN
METHOD:PUBLISH
X-WR-CALNAME:Oncology News, Insights, Stories by OncoDaily
X-ORIGINAL-URL:https://oncodaily.com
X-WR-CALDESC:Events for Oncology News, Insights, Stories by OncoDaily
REFRESH-INTERVAL;VALUE=DURATION:PT1H
X-Robots-Tag:noindex
X-PUBLISHED-TTL:PT1H
BEGIN:VTIMEZONE
TZID:America/Halifax
BEGIN:DAYLIGHT
TZOFFSETFROM:-0400
TZOFFSETTO:-0300
TZNAME:ADT
DTSTART:20250309T060000
END:DAYLIGHT
BEGIN:STANDARD
TZOFFSETFROM:-0300
TZOFFSETTO:-0400
TZNAME:AST
DTSTART:20251102T050000
END:STANDARD
BEGIN:DAYLIGHT
TZOFFSETFROM:-0400
TZOFFSETTO:-0300
TZNAME:ADT
DTSTART:20260308T060000
END:DAYLIGHT
BEGIN:STANDARD
TZOFFSETFROM:-0300
TZOFFSETTO:-0400
TZNAME:AST
DTSTART:20261101T050000
END:STANDARD
BEGIN:DAYLIGHT
TZOFFSETFROM:-0400
TZOFFSETTO:-0300
TZNAME:ADT
DTSTART:20270314T060000
END:DAYLIGHT
BEGIN:STANDARD
TZOFFSETFROM:-0300
TZOFFSETTO:-0400
TZNAME:AST
DTSTART:20271107T050000
END:STANDARD
END:VTIMEZONE
BEGIN:VEVENT
DTSTART;VALUE=DATE:20260131
DTEND;VALUE=DATE:20260201
DTSTAMP:20260420T010346
CREATED:20251211T204358Z
LAST-MODIFIED:20251211T204416Z
UID:10000479-1769817600-1769903999@oncodaily.com
SUMMARY:Best of Hematology and Breast Cancer 2026\, Augusta
DESCRIPTION:The Best of Hematology and Breast Cancer 2026\, Augusta conference\, offering 6.75 Continuing Medical Education (CME) credits\, is scheduled for January 31\, 2026. \nThe event will take place at the Crown Plaza located at 1060 Center Street\, North Augusta\, South Carolina\, United States. Hosted by Binaytara\, the conference is part of a series of educational projects focused on improving cancer care by disseminating the latest advances in the fields of hematology and breast cancer to medical professionals. \nRegister.
URL:https://oncodaily.com/event/best-of-hematology-426442
LOCATION:Crowne Plaza North Augusta by IHG\, 1060 Center St\, North Augusta\, SC\, 29841\, United States
ATTACH;FMTTYPE=image/webp:https://oncodaily.com/pub/uploads/2025/12/Binaytara.webp
END:VEVENT
END:VCALENDAR