
BEGIN:VCALENDAR
VERSION:2.0
PRODID:-//Oncology News, Insights, Stories by OncoDaily - ECPv6.15.20//NONSGML v1.0//EN
CALSCALE:GREGORIAN
METHOD:PUBLISH
X-WR-CALNAME:Oncology News, Insights, Stories by OncoDaily
X-ORIGINAL-URL:https://oncodaily.com
X-WR-CALDESC:Events for Oncology News, Insights, Stories by OncoDaily
REFRESH-INTERVAL;VALUE=DURATION:PT1H
X-Robots-Tag:noindex
X-PUBLISHED-TTL:PT1H
BEGIN:VTIMEZONE
TZID:America/Halifax
BEGIN:DAYLIGHT
TZOFFSETFROM:-0400
TZOFFSETTO:-0300
TZNAME:ADT
DTSTART:20250309T060000
END:DAYLIGHT
BEGIN:STANDARD
TZOFFSETFROM:-0300
TZOFFSETTO:-0400
TZNAME:AST
DTSTART:20251102T050000
END:STANDARD
BEGIN:DAYLIGHT
TZOFFSETFROM:-0400
TZOFFSETTO:-0300
TZNAME:ADT
DTSTART:20260308T060000
END:DAYLIGHT
BEGIN:STANDARD
TZOFFSETFROM:-0300
TZOFFSETTO:-0400
TZNAME:AST
DTSTART:20261101T050000
END:STANDARD
BEGIN:DAYLIGHT
TZOFFSETFROM:-0400
TZOFFSETTO:-0300
TZNAME:ADT
DTSTART:20270314T060000
END:DAYLIGHT
BEGIN:STANDARD
TZOFFSETFROM:-0300
TZOFFSETTO:-0400
TZNAME:AST
DTSTART:20271107T050000
END:STANDARD
END:VTIMEZONE
BEGIN:VEVENT
DTSTART;VALUE=DATE:20260205
DTEND;VALUE=DATE:20260207
DTSTAMP:20260419T092418
CREATED:20251126T001629Z
LAST-MODIFIED:20251126T001641Z
UID:10000402-1770249600-1770422399@oncodaily.com
SUMMARY:ESMO Preceptorship on Cervical Cancer 2026: Cape Town
DESCRIPTION:The ESMO Preceptorship on Cervical Cancer 2026: Cape Town is a two-day educational course focusing on providing oncologists with a thorough understanding of cervical cancer management\, including screening\, prevention\, diagnosis\, and the standard of care for early\, locally advanced\, recurrent\, and metastatic disease. The event is scheduled for February 5–6\, 2026\, in Cape Town\, South Africa\, and is accredited with ESMO-MORA category 1 points.
URL:https://oncodaily.com/event/esmo-preceptorship-416466
LOCATION:Cape Town\, South Africa
ATTACH;FMTTYPE=image/webp:https://oncodaily.com/pub/uploads/2025/11/ESMO-1.webp
ORGANIZER;CN="European Society For Medical Oncology (ESMO)":MAILTO:esmo@esmo.org
END:VEVENT
END:VCALENDAR