
BEGIN:VCALENDAR
VERSION:2.0
PRODID:-//Oncology News, Insights, Stories by OncoDaily - ECPv6.15.20//NONSGML v1.0//EN
CALSCALE:GREGORIAN
METHOD:PUBLISH
X-ORIGINAL-URL:https://oncodaily.com
X-WR-CALDESC:Events for Oncology News, Insights, Stories by OncoDaily
REFRESH-INTERVAL;VALUE=DURATION:PT1H
X-Robots-Tag:noindex
X-PUBLISHED-TTL:PT1H
BEGIN:VTIMEZONE
TZID:America/Halifax
BEGIN:DAYLIGHT
TZOFFSETFROM:-0400
TZOFFSETTO:-0300
TZNAME:ADT
DTSTART:20250309T060000
END:DAYLIGHT
BEGIN:STANDARD
TZOFFSETFROM:-0300
TZOFFSETTO:-0400
TZNAME:AST
DTSTART:20251102T050000
END:STANDARD
BEGIN:DAYLIGHT
TZOFFSETFROM:-0400
TZOFFSETTO:-0300
TZNAME:ADT
DTSTART:20260308T060000
END:DAYLIGHT
BEGIN:STANDARD
TZOFFSETFROM:-0300
TZOFFSETTO:-0400
TZNAME:AST
DTSTART:20261101T050000
END:STANDARD
BEGIN:DAYLIGHT
TZOFFSETFROM:-0400
TZOFFSETTO:-0300
TZNAME:ADT
DTSTART:20270314T060000
END:DAYLIGHT
BEGIN:STANDARD
TZOFFSETFROM:-0300
TZOFFSETTO:-0400
TZNAME:AST
DTSTART:20271107T050000
END:STANDARD
END:VTIMEZONE
BEGIN:VEVENT
DTSTART;VALUE=DATE:20260419
DTEND;VALUE=DATE:20260423
DTSTAMP:20260422T101423
CREATED:20260114T212253Z
LAST-MODIFIED:20260114T212306Z
UID:10000574-1776556800-1776902399@oncodaily.com
SUMMARY:2026 Australian Pain Society 46th Annual Scientific Meeting
DESCRIPTION:The 2026 Australian Pain Society 46th Annual Scientific Meeting (APS 2026) is Australia’s leading multidisciplinary conference focused on the management and research of complex pain. \nThe meeting is scheduled for April 19–22\, 2026\, in Adelaide\, and will bring together clinicians\, nurses\, and allied health professionals to discuss the latest advancements in basic science\, clinical implementation\, and pain theory. The program features international keynotes from Professor Annina Schmid (Oxford University) and Professor Yves De Koninck (Laval University)\, alongside a diverse range of national experts. \nRegister.
URL:https://oncodaily.com/event/australian-pain-society-441170
LOCATION:Adelaide Convention Centre\, North Terrace\, Adelaide\, South Australia\, 5000\, Australia
ATTACH;FMTTYPE=image/webp:https://oncodaily.com/pub/uploads/2026/01/APS-1.webp
ORGANIZER;CN="Australian Pain Society (APS)":MAILTO:aps@apsoc.org.au
END:VEVENT
BEGIN:VEVENT
DTSTART;VALUE=DATE:20260628
DTEND;VALUE=DATE:20260701
DTSTAMP:20260422T101423
CREATED:20260114T213516Z
LAST-MODIFIED:20260114T213525Z
UID:10000576-1782604800-1782863999@oncodaily.com
SUMMARY:ANZUP 2026 Annual Scientific Meeting
DESCRIPTION:The ANZUP 2026 Annual Scientific Meeting is the premier genitourinary (GU) cancer meeting in the region\, bringing together clinical researchers\, healthcare professionals\, and consumer advocates. \nScheduled for June 28–30\, 2026\, in Adelaide\, the meeting serves as a critical platform for presenting the latest data on prostate\, kidney\, bladder\, and testicular cancers. The technical program features an MDT Masterclass and a dedicated Nurses and Allied Health Symposium\, focusing on improving global access to clinical trials and integrating multidisciplinary research into standard patient care. \nRegister.
URL:https://oncodaily.com/event/anzup-2026-441181
LOCATION:Adelaide Convention Centre\, North Terrace\, Adelaide\, South Australia\, 5000\, Australia
ATTACH;FMTTYPE=image/webp:https://oncodaily.com/pub/uploads/2026/01/ANZUP-1.webp
ORGANIZER;CN="Australian and New Zealand Urogenital and Prostate Cancer Trials Group (ANZUP)":MAILTO:anzup@anzup.org.au
END:VEVENT
END:VCALENDAR