
BEGIN:VCALENDAR
VERSION:2.0
PRODID:-//Oncology News, Insights, Stories by OncoDaily - ECPv6.15.20//NONSGML v1.0//EN
CALSCALE:GREGORIAN
METHOD:PUBLISH
X-WR-CALNAME:Oncology News, Insights, Stories by OncoDaily
X-ORIGINAL-URL:https://oncodaily.com
X-WR-CALDESC:Events for Oncology News, Insights, Stories by OncoDaily
REFRESH-INTERVAL;VALUE=DURATION:PT1H
X-Robots-Tag:noindex
X-PUBLISHED-TTL:PT1H
BEGIN:VTIMEZONE
TZID:America/Halifax
BEGIN:DAYLIGHT
TZOFFSETFROM:-0400
TZOFFSETTO:-0300
TZNAME:ADT
DTSTART:20240310T060000
END:DAYLIGHT
BEGIN:STANDARD
TZOFFSETFROM:-0300
TZOFFSETTO:-0400
TZNAME:AST
DTSTART:20241103T050000
END:STANDARD
BEGIN:DAYLIGHT
TZOFFSETFROM:-0400
TZOFFSETTO:-0300
TZNAME:ADT
DTSTART:20250309T060000
END:DAYLIGHT
BEGIN:STANDARD
TZOFFSETFROM:-0300
TZOFFSETTO:-0400
TZNAME:AST
DTSTART:20251102T050000
END:STANDARD
BEGIN:DAYLIGHT
TZOFFSETFROM:-0400
TZOFFSETTO:-0300
TZNAME:ADT
DTSTART:20260308T060000
END:DAYLIGHT
BEGIN:STANDARD
TZOFFSETFROM:-0300
TZOFFSETTO:-0400
TZNAME:AST
DTSTART:20261101T050000
END:STANDARD
END:VTIMEZONE
BEGIN:VEVENT
DTSTART;VALUE=DATE:20251210
DTEND;VALUE=DATE:20251214
DTSTAMP:20260421T202313
CREATED:20251012T222101Z
LAST-MODIFIED:20251012T222112Z
UID:10000277-1765324800-1765670399@oncodaily.com
SUMMARY:AACR Special Conference in Cancer Research: The Rise in Early-Onset Cancers - Knowledge Gaps and Research Opportunities
DESCRIPTION:This AACR Special Conference in Cancer Research will be held December 10–13\, 2025\, in Montreal\, Quebec\, Canada. \nThe meeting is designed as an in-person event\, with all presentations delivered live\, though the content will later be made available on demand. \nThe scientific program covers topics such as epidemiology of early-onset cancer\, mechanisms (metabolic\, exogenous\, endogenous)\, detection and screening\, interception strategies\, and global disparities in early-onset cancers. \nThis conference provides a forum for researchers\, clinicians\, and public health professionals to identify knowledge gaps and research opportunities in the rapidly evolving field of early-onset cancers. The sessions are structured to encourage cross-disciplinary dialogue and to spark ideas that can advance understanding and intervention strategies for cancers manifesting at younger ages. \nYou can find more posts featuring AACR on OncoDaily.
URL:https://oncodaily.com/event/aacr-389726
LOCATION:615 Chestnut Street\, 17th Floor\, Philadelphia\, PA 19106-4404\, USA\, 615 Chestnut Street\, 17th Floor\, Philadelphia\, PA 19106-4404\, USA\, Philadelphia\, PA\, 19106-4404\, United States
ATTACH;FMTTYPE=image/jpeg:https://oncodaily.com/pub/uploads/2025/09/1757608291472.jpg
ORGANIZER;CN="American Association for Cancer Research":MAILTO:aacr@aacr.org
END:VEVENT
END:VCALENDAR