
BEGIN:VCALENDAR
VERSION:2.0
PRODID:-//Oncology News, Insights, Stories by OncoDaily - ECPv6.15.20//NONSGML v1.0//EN
CALSCALE:GREGORIAN
METHOD:PUBLISH
X-ORIGINAL-URL:https://oncodaily.com
X-WR-CALDESC:Events for Oncology News, Insights, Stories by OncoDaily
REFRESH-INTERVAL;VALUE=DURATION:PT1H
X-Robots-Tag:noindex
X-PUBLISHED-TTL:PT1H
BEGIN:VTIMEZONE
TZID:America/Halifax
BEGIN:DAYLIGHT
TZOFFSETFROM:-0400
TZOFFSETTO:-0300
TZNAME:ADT
DTSTART:20240310T060000
END:DAYLIGHT
BEGIN:STANDARD
TZOFFSETFROM:-0300
TZOFFSETTO:-0400
TZNAME:AST
DTSTART:20241103T050000
END:STANDARD
BEGIN:DAYLIGHT
TZOFFSETFROM:-0400
TZOFFSETTO:-0300
TZNAME:ADT
DTSTART:20250309T060000
END:DAYLIGHT
BEGIN:STANDARD
TZOFFSETFROM:-0300
TZOFFSETTO:-0400
TZNAME:AST
DTSTART:20251102T050000
END:STANDARD
BEGIN:DAYLIGHT
TZOFFSETFROM:-0400
TZOFFSETTO:-0300
TZNAME:ADT
DTSTART:20260308T060000
END:DAYLIGHT
BEGIN:STANDARD
TZOFFSETFROM:-0300
TZOFFSETTO:-0400
TZNAME:AST
DTSTART:20261101T050000
END:STANDARD
END:VTIMEZONE
BEGIN:VEVENT
DTSTART;TZID=America/Halifax:20250412T080000
DTEND;TZID=America/Halifax:20250412T170000
DTSTAMP:20260420T124333
CREATED:20250331T204545Z
LAST-MODIFIED:20250607T193748Z
UID:10000192-1744444800-1744477200@oncodaily.com
SUMMARY:The Breast Cancer Symposium 2025
DESCRIPTION:The Breast Cancer Symposium 2025 will be held on April 12\,2025 at Detroit\, USA. \nThe Breast Cancer Symposium 2025\, presented by the Barbara Ann Karmanos Cancer Institute and Wayne State University\, is designed for healthcare professionals in hematology and oncology\, including physicians\, surgeons\, fellows\, residents\, pathologists etc. \nThis annual conference will cover the latest advancements in breast cancer treatment\, including updates on HER2+ Breast Cancer\, Breast Reconstruction\, and an Overview of Anthracycline Use in Breast Cancer. Attendees will gain insights into the multimodal care of breast cancer patients and the evolving strategies in treating these cancers. \nThe symposium will focus on integrating diagnostic and therapeutic strategies in the treatment of breast cancer\, particularly through the use of both cytotoxic and biologic agents. Participants will also have the opportunity to explore the latest research findings and how these developments can impact future decisions in the diagnosis and treatment of breast cancer. This conference will provide a comprehensive learning experience for healthcare professionals\, keeping them up-to-date with the most recent and relevant information in the field. \nRegistration is open for the event until April 10\, 2025.
URL:https://oncodaily.com/event/breast-cancer-symposium-2025264883
LOCATION:Detroit\, Marriott\, 200 W. Big Beaver Road Troy\, 48084\, United States
ATTACH;FMTTYPE=image/jpeg:https://oncodaily.com/pub/uploads/2025/03/IMG_1746.jpg
END:VEVENT
END:VCALENDAR