
BEGIN:VCALENDAR
VERSION:2.0
PRODID:-//Oncology News, Insights, Stories by OncoDaily - ECPv6.15.20//NONSGML v1.0//EN
CALSCALE:GREGORIAN
METHOD:PUBLISH
X-WR-CALNAME:Oncology News, Insights, Stories by OncoDaily
X-ORIGINAL-URL:https://oncodaily.com
X-WR-CALDESC:Events for Oncology News, Insights, Stories by OncoDaily
REFRESH-INTERVAL;VALUE=DURATION:PT1H
X-Robots-Tag:noindex
X-PUBLISHED-TTL:PT1H
BEGIN:VTIMEZONE
TZID:America/Halifax
BEGIN:DAYLIGHT
TZOFFSETFROM:-0400
TZOFFSETTO:-0300
TZNAME:ADT
DTSTART:20240310T060000
END:DAYLIGHT
BEGIN:STANDARD
TZOFFSETFROM:-0300
TZOFFSETTO:-0400
TZNAME:AST
DTSTART:20241103T050000
END:STANDARD
BEGIN:DAYLIGHT
TZOFFSETFROM:-0400
TZOFFSETTO:-0300
TZNAME:ADT
DTSTART:20250309T060000
END:DAYLIGHT
BEGIN:STANDARD
TZOFFSETFROM:-0300
TZOFFSETTO:-0400
TZNAME:AST
DTSTART:20251102T050000
END:STANDARD
BEGIN:DAYLIGHT
TZOFFSETFROM:-0400
TZOFFSETTO:-0300
TZNAME:ADT
DTSTART:20260308T060000
END:DAYLIGHT
BEGIN:STANDARD
TZOFFSETFROM:-0300
TZOFFSETTO:-0400
TZNAME:AST
DTSTART:20261101T050000
END:STANDARD
END:VTIMEZONE
BEGIN:VEVENT
DTSTART;TZID=America/Halifax:20250320T000000
DTEND;TZID=America/Halifax:20250322T000000
DTSTAMP:20260425T081642
CREATED:20241204T192855Z
LAST-MODIFIED:20250608T090259Z
UID:10000087-1742428800-1742601600@oncodaily.com
SUMMARY:The 2025 Radiosurgery Society (RSS) Scientific Meeting
DESCRIPTION:The 2025 Radiosurgery Society (RSS) Scientific Meeting will take place in Tucson\, Arizona\, from March 20-22\, 2025\, offering a unique opportunity for healthcare professionals from various disciplines to come together and explore the latest advancements in stereotactic radiosurgery (SRS)\, stereotactic body radiation therapy (SBRT)\, and precision therapies. This collaborative\, multi-disciplinary conference will feature world-class experts in the field who are passionate about enhancing patient care through innovative treatment strategies. \nThe meeting will showcase cutting-edge discoveries\, clinical research\, and technological advancements in SRS and SBRT. These techniques\, known for their precision and effectiveness\, are transforming the way healthcare providers treat a variety of conditions\, including cancer and other complex diseases. Attendees will have the chance to engage in discussions on the most recent developments in these therapies\, furthering their knowledge and skills to improve patient outcomes. \nThe Link for Registration. \n 
URL:https://oncodaily.com/event/197674
LOCATION:Westin La Paloma\, 3800 East Sunrise Drive Tucson\, AZ\, Tucson\, AZ\, 85718\, United States
ATTACH;FMTTYPE=image/jpeg:https://oncodaily.com/pub/uploads/2024/12/1717786075679.jpg
END:VEVENT
END:VCALENDAR