
BEGIN:VCALENDAR
VERSION:2.0
PRODID:-//Oncology News, Insights, Stories by OncoDaily - ECPv6.15.20//NONSGML v1.0//EN
CALSCALE:GREGORIAN
METHOD:PUBLISH
X-WR-CALNAME:Oncology News, Insights, Stories by OncoDaily
X-ORIGINAL-URL:https://oncodaily.com
X-WR-CALDESC:Events for Oncology News, Insights, Stories by OncoDaily
REFRESH-INTERVAL;VALUE=DURATION:PT1H
X-Robots-Tag:noindex
X-PUBLISHED-TTL:PT1H
BEGIN:VTIMEZONE
TZID:America/Halifax
BEGIN:DAYLIGHT
TZOFFSETFROM:-0400
TZOFFSETTO:-0300
TZNAME:ADT
DTSTART:20250309T060000
END:DAYLIGHT
BEGIN:STANDARD
TZOFFSETFROM:-0300
TZOFFSETTO:-0400
TZNAME:AST
DTSTART:20251102T050000
END:STANDARD
BEGIN:DAYLIGHT
TZOFFSETFROM:-0400
TZOFFSETTO:-0300
TZNAME:ADT
DTSTART:20260308T060000
END:DAYLIGHT
BEGIN:STANDARD
TZOFFSETFROM:-0300
TZOFFSETTO:-0400
TZNAME:AST
DTSTART:20261101T050000
END:STANDARD
BEGIN:DAYLIGHT
TZOFFSETFROM:-0400
TZOFFSETTO:-0300
TZNAME:ADT
DTSTART:20270314T060000
END:DAYLIGHT
BEGIN:STANDARD
TZOFFSETFROM:-0300
TZOFFSETTO:-0400
TZNAME:AST
DTSTART:20271107T050000
END:STANDARD
END:VTIMEZONE
BEGIN:VEVENT
DTSTART;VALUE=DATE:20260415
DTEND;VALUE=DATE:20260417
DTSTAMP:20260423T135305
CREATED:20251114T214400Z
LAST-MODIFIED:20251114T214417Z
UID:10000356-1776211200-1776383999@oncodaily.com
SUMMARY:From Ideas to Innovation 2026
DESCRIPTION:The From Ideas to Innovation 2026 conference is a biennial research event hosted by Prostate Cancer UK designed to bring together prostate cancer researchers for networking\, collaboration\, and to hear the latest research updates. The two-day event will take place on Wednesday\, April 15 and Thursday\, April 16\, 2026\, at 30 Euston Square\, London\, NW1 2FB\, United Kingdom. \nThe educational focus spans multiple key areas\, including treatment resistance\, prostate cancer risk\, the TRANSFORM trial updates\, imaging and staging\, the tumour microenvironment\, and smarter treatment strategies\, with an emphasis on integrating insights from men affected by prostate cancer (Patient Research Partners).
URL:https://oncodaily.com/event/from-ideas-to-innovation-409801
LOCATION:30 Euston Square\, 30 Euston Square\, London\, England\, NW1 2FB\, United Kingdom
ATTACH;FMTTYPE=image/jpeg:https://oncodaily.com/pub/uploads/2025/11/7762__from_ideas_to_innovation__registrationbanner.jpg
ORGANIZER;CN="Prostate Cancer UK":MAILTO:supportercare@prostatecanceruk.org
END:VEVENT
END:VCALENDAR