
BEGIN:VCALENDAR
VERSION:2.0
PRODID:-//Oncology News, Insights, Stories by OncoDaily - ECPv6.15.20//NONSGML v1.0//EN
CALSCALE:GREGORIAN
METHOD:PUBLISH
X-WR-CALNAME:Oncology News, Insights, Stories by OncoDaily
X-ORIGINAL-URL:https://oncodaily.com
X-WR-CALDESC:Events for Oncology News, Insights, Stories by OncoDaily
REFRESH-INTERVAL;VALUE=DURATION:PT1H
X-Robots-Tag:noindex
X-PUBLISHED-TTL:PT1H
BEGIN:VTIMEZONE
TZID:Atlantic/Azores
BEGIN:DAYLIGHT
TZOFFSETFROM:-0100
TZOFFSETTO:+0000
TZNAME:+00
DTSTART:20240331T010000
END:DAYLIGHT
BEGIN:STANDARD
TZOFFSETFROM:+0000
TZOFFSETTO:-0100
TZNAME:-01
DTSTART:20241027T010000
END:STANDARD
BEGIN:DAYLIGHT
TZOFFSETFROM:-0100
TZOFFSETTO:+0000
TZNAME:+00
DTSTART:20250330T010000
END:DAYLIGHT
BEGIN:STANDARD
TZOFFSETFROM:+0000
TZOFFSETTO:-0100
TZNAME:-01
DTSTART:20251026T010000
END:STANDARD
BEGIN:DAYLIGHT
TZOFFSETFROM:-0100
TZOFFSETTO:+0000
TZNAME:+00
DTSTART:20260329T010000
END:DAYLIGHT
BEGIN:STANDARD
TZOFFSETFROM:+0000
TZOFFSETTO:-0100
TZNAME:-01
DTSTART:20261025T010000
END:STANDARD
END:VTIMEZONE
BEGIN:VEVENT
DTSTART;TZID=Atlantic/Azores:20250501T000000
DTEND;TZID=Atlantic/Azores:20250503T000000
DTSTAMP:20260422T154828
CREATED:20241123T203708Z
LAST-MODIFIED:20250607T193630Z
UID:10000076-1746057600-1746230400@oncodaily.com
SUMMARY:POEM 2025
DESCRIPTION:Pediatric Oncology East and Mediterranean (POEM 2025) will be held from May 1-3\, 2025 at Amman\, Jordan. \nThe Pediatric Oncology East and Mediterranean (POEM) Group was established in 2013 as a cooperative platform aimed at uniting healthcare professionals\, physicians\, and researchers from institutions across the East and Mediterranean regions. The group’s mission is to foster collaboration by sharing expertise\, initiating joint clinical trials\, and developing common strategies to optimize pediatric oncology care. By facilitating the exchange of knowledge and resources\, POEM seeks to address the unique challenges faced by pediatric cancer patients in these regions and bridge the gaps in healthcare access and treatment disparities. \nIn addition to promoting cooperation in clinical research\, the POEM Group focuses on capacity-building efforts\, including training healthcare providers\, raising awareness\, and establishing pediatric oncology centers in underserved areas. The group’s work is essential in ensuring that children with cancer\, regardless of their location or available resources\, receive the best possible care. Through these initiatives\, POEM aims to improve diagnosis\, treatment outcomes\, and long-term care for pediatric oncology patients\, contributing to the overall global effort to enhance survival rates and quality of life for children with cancer in the region. \nMore details will be coming soon\, Stay Tuned. \n  \n 
URL:https://oncodaily.com/event/190420
LOCATION:Amman\, Amman\, 11120\, Jordan
ATTACH;FMTTYPE=image/png:https://oncodaily.com/pub/uploads/2024/11/image001-e1732393619625.png
ORGANIZER;CN="Pediatric Oncology East and Mediterranean":MAILTO:info@poemgroup.org
END:VEVENT
END:VCALENDAR