
BEGIN:VCALENDAR
VERSION:2.0
PRODID:-//Oncology News, Insights, Stories by OncoDaily - ECPv6.15.20//NONSGML v1.0//EN
CALSCALE:GREGORIAN
METHOD:PUBLISH
X-ORIGINAL-URL:https://oncodaily.com
X-WR-CALDESC:Events for Oncology News, Insights, Stories by OncoDaily
REFRESH-INTERVAL;VALUE=DURATION:PT1H
X-Robots-Tag:noindex
X-PUBLISHED-TTL:PT1H
BEGIN:VTIMEZONE
TZID:America/Halifax
BEGIN:DAYLIGHT
TZOFFSETFROM:-0400
TZOFFSETTO:-0300
TZNAME:ADT
DTSTART:20240310T060000
END:DAYLIGHT
BEGIN:STANDARD
TZOFFSETFROM:-0300
TZOFFSETTO:-0400
TZNAME:AST
DTSTART:20241103T050000
END:STANDARD
BEGIN:DAYLIGHT
TZOFFSETFROM:-0400
TZOFFSETTO:-0300
TZNAME:ADT
DTSTART:20250309T060000
END:DAYLIGHT
BEGIN:STANDARD
TZOFFSETFROM:-0300
TZOFFSETTO:-0400
TZNAME:AST
DTSTART:20251102T050000
END:STANDARD
BEGIN:DAYLIGHT
TZOFFSETFROM:-0400
TZOFFSETTO:-0300
TZNAME:ADT
DTSTART:20260308T060000
END:DAYLIGHT
BEGIN:STANDARD
TZOFFSETFROM:-0300
TZOFFSETTO:-0400
TZNAME:AST
DTSTART:20261101T050000
END:STANDARD
END:VTIMEZONE
BEGIN:VEVENT
DTSTART;VALUE=DATE:20251204
DTEND;VALUE=DATE:20251205
DTSTAMP:20260420T043216
CREATED:20251118T095132Z
LAST-MODIFIED:20251118T100046Z
UID:10000369-1764806400-1764892799@oncodaily.com
SUMMARY:Pediatric Cardio-Oncology Consortium Virtual Summit
DESCRIPTION:The Pediatric Cardio-Oncology Consortium (PCOC) Virtual Summit is a complimentary\, CME-accredited online event scheduled for December 4\, 2025\, 10 AM EST\, and is jointly sponsored by Cincinnati Children’s Hospital Medical Center\, Sofia’s Hope\, and the Pediatric Cardiomyopathy Registry\, in conjunction with the International Cardio-Oncology Society. \nThe summit’s goal is to bring together a multidisciplinary group of healthcare professionals to discuss and shape the optimal management of pediatric cardio-oncology. The program is focused on three main sessions: Multi-Modality Imaging Surveillance in pediatric cardio-oncology\, Cardiovascular Toxicity in Pediatric Oncology (covering new agents like Tyrosine Kinase Inhibitors and Immunotherapies)\, and addressing Cardiovascular Disease in Young Adult Survivors. \nRegister.
URL:https://oncodaily.com/event/cardio-oncology-consortium-411746
ATTACH;FMTTYPE=image/jpeg:https://oncodaily.com/pub/uploads/2025/11/Cardio-Oncology-Consortium.jpeg
END:VEVENT
END:VCALENDAR