
BEGIN:VCALENDAR
VERSION:2.0
PRODID:-//Oncology News, Insights, Stories by OncoDaily - ECPv6.15.20//NONSGML v1.0//EN
CALSCALE:GREGORIAN
METHOD:PUBLISH
X-ORIGINAL-URL:https://oncodaily.com
X-WR-CALDESC:Events for Oncology News, Insights, Stories by OncoDaily
REFRESH-INTERVAL;VALUE=DURATION:PT1H
X-Robots-Tag:noindex
X-PUBLISHED-TTL:PT1H
BEGIN:VTIMEZONE
TZID:America/Halifax
BEGIN:DAYLIGHT
TZOFFSETFROM:-0400
TZOFFSETTO:-0300
TZNAME:ADT
DTSTART:20250309T060000
END:DAYLIGHT
BEGIN:STANDARD
TZOFFSETFROM:-0300
TZOFFSETTO:-0400
TZNAME:AST
DTSTART:20251102T050000
END:STANDARD
BEGIN:DAYLIGHT
TZOFFSETFROM:-0400
TZOFFSETTO:-0300
TZNAME:ADT
DTSTART:20260308T060000
END:DAYLIGHT
BEGIN:STANDARD
TZOFFSETFROM:-0300
TZOFFSETTO:-0400
TZNAME:AST
DTSTART:20261101T050000
END:STANDARD
BEGIN:DAYLIGHT
TZOFFSETFROM:-0400
TZOFFSETTO:-0300
TZNAME:ADT
DTSTART:20270314T060000
END:DAYLIGHT
BEGIN:STANDARD
TZOFFSETFROM:-0300
TZOFFSETTO:-0400
TZNAME:AST
DTSTART:20271107T050000
END:STANDARD
END:VTIMEZONE
BEGIN:VEVENT
DTSTART;VALUE=DATE:20260513
DTEND;VALUE=DATE:20260518
DTSTAMP:20260423T213350
CREATED:20251113T222921Z
LAST-MODIFIED:20251113T222936Z
UID:10000352-1778630400-1779062399@oncodaily.com
SUMMARY:51st Annual ONS Congress
DESCRIPTION:The 51st Annual ONS Congress\, hosted by the Oncology Nursing Society (ONS)\, will take place from May 13 to 17\, 2026\, in San Antonio\, Texas\, USA. \nThe conference serves as a key platform for thousands of oncology nursing professionals to learn\, network\, and exchange knowledge on the latest developments in cancer care across all specialties\, focusing on areas like hematologic malignancies\, breast cancer\, and the integration of new technologies such as artificial intelligence (AI) into clinical practice. \nRegister.
URL:https://oncodaily.com/event/ons-congress-408970
LOCATION:Henry B. Gonzalez Convention Center in San Antonio\, 900 E Market St\, San Antonio\, San Antonio\, TX\, 78205-2784
ATTACH;FMTTYPE=image/jpeg:https://oncodaily.com/pub/uploads/2025/11/ONS.jpg
ORGANIZER;CN="Oncology Nursing Society":MAILTO:help@ons.org
END:VEVENT
END:VCALENDAR