
BEGIN:VCALENDAR
VERSION:2.0
PRODID:-//Oncology News, Insights, Stories by OncoDaily - ECPv6.15.20//NONSGML v1.0//EN
CALSCALE:GREGORIAN
METHOD:PUBLISH
X-WR-CALNAME:Oncology News, Insights, Stories by OncoDaily
X-ORIGINAL-URL:https://oncodaily.com
X-WR-CALDESC:Events for Oncology News, Insights, Stories by OncoDaily
REFRESH-INTERVAL;VALUE=DURATION:PT1H
X-Robots-Tag:noindex
X-PUBLISHED-TTL:PT1H
BEGIN:VTIMEZONE
TZID:America/Halifax
BEGIN:DAYLIGHT
TZOFFSETFROM:-0400
TZOFFSETTO:-0300
TZNAME:ADT
DTSTART:20250309T060000
END:DAYLIGHT
BEGIN:STANDARD
TZOFFSETFROM:-0300
TZOFFSETTO:-0400
TZNAME:AST
DTSTART:20251102T050000
END:STANDARD
BEGIN:DAYLIGHT
TZOFFSETFROM:-0400
TZOFFSETTO:-0300
TZNAME:ADT
DTSTART:20260308T060000
END:DAYLIGHT
BEGIN:STANDARD
TZOFFSETFROM:-0300
TZOFFSETTO:-0400
TZNAME:AST
DTSTART:20261101T050000
END:STANDARD
BEGIN:DAYLIGHT
TZOFFSETFROM:-0400
TZOFFSETTO:-0300
TZNAME:ADT
DTSTART:20270314T060000
END:DAYLIGHT
BEGIN:STANDARD
TZOFFSETFROM:-0300
TZOFFSETTO:-0400
TZNAME:AST
DTSTART:20271107T050000
END:STANDARD
END:VTIMEZONE
BEGIN:VEVENT
DTSTART;TZID=America/Halifax:20260422T120000
DTEND;TZID=America/Halifax:20260422T130000
DTSTAMP:20260421T155215
CREATED:20260421T121703Z
LAST-MODIFIED:20260421T121703Z
UID:10000721-1776859200-1776862800@oncodaily.com
SUMMARY:NCCN Webinar Series - Optimizing Patient Outcomes: The Role of Blinatumomab in Frontline Pediatric ALL
DESCRIPTION:On April 22\, 2026\, NCCN will host a specialized clinical program titled “Optimizing Patient Outcomes – In a Blink of an Eye: Updates in Frontline Therapy with Blinatumomab for Pediatric Acute Lymphoblastic Leukemia.” \nWhile pediatric ALL survival rates have improved significantly over decades\, the integration of blinatumomab into upfront therapy for newly diagnosed B-cell ALL represents a landmark shift in the treatment landscape. This session will provide healthcare professionals with a deep dive into risk-stratified approaches\, evidence-based data on frontline blinatumomab use\, and the potential for targeted therapies to de-intensify conventional chemotherapy\, ultimately shaping the future of pediatric oncology. \nRegister now.
URL:https://oncodaily.com/event/blinatumomab-488317
ATTACH;FMTTYPE=image/webp:https://oncodaily.com/pub/uploads/2026/04/1774014543133.webp
LOCATION:
END:VEVENT
BEGIN:VEVENT
DTSTART;TZID=America/Halifax:20260521T080000
DTEND;TZID=America/Halifax:20260521T100000
DTSTAMP:20260421T155215
CREATED:20260421T120337Z
LAST-MODIFIED:20260421T120436Z
UID:10000720-1779350400-1779357600@oncodaily.com
SUMMARY:NCCN Global Policy Webinar - The Growing Cancer Burden in Young Adults
DESCRIPTION:The NCCN Global Policy Webinar Series will host a vital session titled “The Growing Cancer Burden in Young Adults” on Thursday\, May 21\, 2026\, from 8:00 to 10:00 AM ET. \nThis international webinar addresses the alarming rise of early-onset cancers among adolescents and young adults (AYAs)\, bringing together a multidisciplinary panel of experts to examine the environmental\, lifestyle\, and systemic factors driving this trend. Attendees will gain insights into regional disparities\, age-appropriate screening strategies\, and the unique psychosocial challenges faced by the AYA population to help bridge the gap in equitable cancer care globally. \nRegister now.
URL:https://oncodaily.com/event/nccn-488307
ATTACH;FMTTYPE=image/webp:https://oncodaily.com/pub/uploads/2026/04/BeFunky-collage-2026-04-21T160410.802-1.webp
LOCATION:
END:VEVENT
END:VCALENDAR