
BEGIN:VCALENDAR
VERSION:2.0
PRODID:-//Oncology News, Insights, Stories by OncoDaily - ECPv6.15.20//NONSGML v1.0//EN
CALSCALE:GREGORIAN
METHOD:PUBLISH
X-WR-CALNAME:Oncology News, Insights, Stories by OncoDaily
X-ORIGINAL-URL:https://oncodaily.com
X-WR-CALDESC:Events for Oncology News, Insights, Stories by OncoDaily
REFRESH-INTERVAL;VALUE=DURATION:PT1H
X-Robots-Tag:noindex
X-PUBLISHED-TTL:PT1H
BEGIN:VTIMEZONE
TZID:America/Halifax
BEGIN:DAYLIGHT
TZOFFSETFROM:-0400
TZOFFSETTO:-0300
TZNAME:ADT
DTSTART:20240310T060000
END:DAYLIGHT
BEGIN:STANDARD
TZOFFSETFROM:-0300
TZOFFSETTO:-0400
TZNAME:AST
DTSTART:20241103T050000
END:STANDARD
BEGIN:DAYLIGHT
TZOFFSETFROM:-0400
TZOFFSETTO:-0300
TZNAME:ADT
DTSTART:20250309T060000
END:DAYLIGHT
BEGIN:STANDARD
TZOFFSETFROM:-0300
TZOFFSETTO:-0400
TZNAME:AST
DTSTART:20251102T050000
END:STANDARD
BEGIN:DAYLIGHT
TZOFFSETFROM:-0400
TZOFFSETTO:-0300
TZNAME:ADT
DTSTART:20260308T060000
END:DAYLIGHT
BEGIN:STANDARD
TZOFFSETFROM:-0300
TZOFFSETTO:-0400
TZNAME:AST
DTSTART:20261101T050000
END:STANDARD
END:VTIMEZONE
BEGIN:VEVENT
DTSTART;VALUE=DATE:20251204
DTEND;VALUE=DATE:20251205
DTSTAMP:20260420T043135
CREATED:20251123T011905Z
LAST-MODIFIED:20251123T011927Z
UID:10000389-1764806400-1764892799@oncodaily.com
SUMMARY:7th European Cancer Forum
DESCRIPTION:The 7th edition of the European Cancer Forum (ECF) on December 4\, 2025\, will be held under the theme “Innovation\, Security and Sustainability: Shaping the Future of Cancer Care\,” aiming to ensure that advancements in oncology are not sidelined by the EU’s focus on external challenges. \nThis high-level policy forum will gather leading policymakers\, healthcare professionals\, industry experts\, and patient advocates to reflect on progress under Europe’s Beating Cancer Plan and strategically align the future of cancer care with the European Union’s broader ambitions for health security\, innovation\, and long-term sustainable healthcare systems. \nRegister.
URL:https://oncodaily.com/event/european-cancer-forum-414741
LOCATION:Residence Palace\, Brussels\, Rue de la Loi 155\, Bruxelles (Brussels)\, Region of Brussels-Capital\, 1040\, Belgium
ATTACH;FMTTYPE=image/jpeg:https://oncodaily.com/pub/uploads/2025/11/MCD-Europe.jpg
END:VEVENT
END:VCALENDAR