
BEGIN:VCALENDAR
VERSION:2.0
PRODID:-//Oncology News, Insights, Stories by OncoDaily - ECPv6.15.20//NONSGML v1.0//EN
CALSCALE:GREGORIAN
METHOD:PUBLISH
X-WR-CALNAME:Oncology News, Insights, Stories by OncoDaily
X-ORIGINAL-URL:https://oncodaily.com
X-WR-CALDESC:Events for Oncology News, Insights, Stories by OncoDaily
REFRESH-INTERVAL;VALUE=DURATION:PT1H
X-Robots-Tag:noindex
X-PUBLISHED-TTL:PT1H
BEGIN:VTIMEZONE
TZID:America/Halifax
BEGIN:DAYLIGHT
TZOFFSETFROM:-0400
TZOFFSETTO:-0300
TZNAME:ADT
DTSTART:20250309T060000
END:DAYLIGHT
BEGIN:STANDARD
TZOFFSETFROM:-0300
TZOFFSETTO:-0400
TZNAME:AST
DTSTART:20251102T050000
END:STANDARD
BEGIN:DAYLIGHT
TZOFFSETFROM:-0400
TZOFFSETTO:-0300
TZNAME:ADT
DTSTART:20260308T060000
END:DAYLIGHT
BEGIN:STANDARD
TZOFFSETFROM:-0300
TZOFFSETTO:-0400
TZNAME:AST
DTSTART:20261101T050000
END:STANDARD
BEGIN:DAYLIGHT
TZOFFSETFROM:-0400
TZOFFSETTO:-0300
TZNAME:ADT
DTSTART:20270314T060000
END:DAYLIGHT
BEGIN:STANDARD
TZOFFSETFROM:-0300
TZOFFSETTO:-0400
TZNAME:AST
DTSTART:20271107T050000
END:STANDARD
END:VTIMEZONE
BEGIN:VEVENT
DTSTART;VALUE=DATE:20260625
DTEND;VALUE=DATE:20260628
DTSTAMP:20260423T065303
CREATED:20251029T215213Z
LAST-MODIFIED:20251029T215239Z
UID:10000299-1782345600-1782604799@oncodaily.com
SUMMARY:MASCC/ISOO Annual Meeting 2026
DESCRIPTION:The MASCC/ISOO Annual Meeting 2026 is the premier international event dedicated to supportive cancer care\, hosted jointly by the Multinational Association of Supportive Care in Cancer (MASCC) and the International Society of Oral Oncology (ISOO). The meeting is scheduled to take place from June 25 – 27\, 2026\, in the vibrant city of Melbourne\, Australia. This annual gathering serves as a key platform for interdisciplinary collaboration\, networking\, and presenting cutting-edge research to a global audience of specialists. \nThe overall theme for the 2026 meeting is “Coordinated and Individualized Supportive Cancer Care\,” with key topics including: “Mind the Gap”: Maximizing Access to Supportive Care for All\, Lifestyle and Behavioral Support in Cancer Care\, and Optimizing Toxicity Management of Novel Therapies. In addition to a comprehensive scientific program covering the full spectrum of supportive care topics\, the event will feature social opportunities to showcase Melbourne’s renowned food\, arts\, and sports scenes\, aiming to be both enriching and memorable for all attendees. \nYou can find more posts featuring MASCC on OncoDaily.
URL:https://oncodaily.com/event/mascc-400479
LOCATION:Melbourne Convention and Exhibition Centre (MCEC)\, 1 Convention Centre Pl\, South Wharf\, Victoria\, 3006\, Australia
ATTACH;FMTTYPE=image/jpeg:https://oncodaily.com/pub/uploads/2025/10/2026_melbourne_1080x660-1500x917_savedate.jpg
END:VEVENT
END:VCALENDAR