
BEGIN:VCALENDAR
VERSION:2.0
PRODID:-//Oncology News, Insights, Stories by OncoDaily - ECPv6.15.20//NONSGML v1.0//EN
CALSCALE:GREGORIAN
METHOD:PUBLISH
X-WR-CALNAME:Oncology News, Insights, Stories by OncoDaily
X-ORIGINAL-URL:https://oncodaily.com
X-WR-CALDESC:Events for Oncology News, Insights, Stories by OncoDaily
REFRESH-INTERVAL;VALUE=DURATION:PT1H
X-Robots-Tag:noindex
X-PUBLISHED-TTL:PT1H
BEGIN:VTIMEZONE
TZID:America/Halifax
BEGIN:DAYLIGHT
TZOFFSETFROM:-0400
TZOFFSETTO:-0300
TZNAME:ADT
DTSTART:20250309T060000
END:DAYLIGHT
BEGIN:STANDARD
TZOFFSETFROM:-0300
TZOFFSETTO:-0400
TZNAME:AST
DTSTART:20251102T050000
END:STANDARD
BEGIN:DAYLIGHT
TZOFFSETFROM:-0400
TZOFFSETTO:-0300
TZNAME:ADT
DTSTART:20260308T060000
END:DAYLIGHT
BEGIN:STANDARD
TZOFFSETFROM:-0300
TZOFFSETTO:-0400
TZNAME:AST
DTSTART:20261101T050000
END:STANDARD
BEGIN:DAYLIGHT
TZOFFSETFROM:-0400
TZOFFSETTO:-0300
TZNAME:ADT
DTSTART:20270314T060000
END:DAYLIGHT
BEGIN:STANDARD
TZOFFSETFROM:-0300
TZOFFSETTO:-0400
TZNAME:AST
DTSTART:20271107T050000
END:STANDARD
END:VTIMEZONE
BEGIN:VTIMEZONE
TZID:Europe/Madrid
BEGIN:DAYLIGHT
TZOFFSETFROM:+0100
TZOFFSETTO:+0200
TZNAME:CEST
DTSTART:20240331T010000
END:DAYLIGHT
BEGIN:STANDARD
TZOFFSETFROM:+0200
TZOFFSETTO:+0100
TZNAME:CET
DTSTART:20241027T010000
END:STANDARD
BEGIN:DAYLIGHT
TZOFFSETFROM:+0100
TZOFFSETTO:+0200
TZNAME:CEST
DTSTART:20250330T010000
END:DAYLIGHT
BEGIN:STANDARD
TZOFFSETFROM:+0200
TZOFFSETTO:+0100
TZNAME:CET
DTSTART:20251026T010000
END:STANDARD
BEGIN:DAYLIGHT
TZOFFSETFROM:+0100
TZOFFSETTO:+0200
TZNAME:CEST
DTSTART:20260329T010000
END:DAYLIGHT
BEGIN:STANDARD
TZOFFSETFROM:+0200
TZOFFSETTO:+0100
TZNAME:CET
DTSTART:20261025T010000
END:STANDARD
END:VTIMEZONE
BEGIN:VTIMEZONE
TZID:Europe/Helsinki
BEGIN:DAYLIGHT
TZOFFSETFROM:+0200
TZOFFSETTO:+0300
TZNAME:EEST
DTSTART:20240331T010000
END:DAYLIGHT
BEGIN:STANDARD
TZOFFSETFROM:+0300
TZOFFSETTO:+0200
TZNAME:EET
DTSTART:20241027T010000
END:STANDARD
BEGIN:DAYLIGHT
TZOFFSETFROM:+0200
TZOFFSETTO:+0300
TZNAME:EEST
DTSTART:20250330T010000
END:DAYLIGHT
BEGIN:STANDARD
TZOFFSETFROM:+0300
TZOFFSETTO:+0200
TZNAME:EET
DTSTART:20251026T010000
END:STANDARD
BEGIN:DAYLIGHT
TZOFFSETFROM:+0200
TZOFFSETTO:+0300
TZNAME:EEST
DTSTART:20260329T010000
END:DAYLIGHT
BEGIN:STANDARD
TZOFFSETFROM:+0300
TZOFFSETTO:+0200
TZNAME:EET
DTSTART:20261025T010000
END:STANDARD
END:VTIMEZONE
BEGIN:VTIMEZONE
TZID:America/New_York
BEGIN:DAYLIGHT
TZOFFSETFROM:-0500
TZOFFSETTO:-0400
TZNAME:EDT
DTSTART:20230312T070000
END:DAYLIGHT
BEGIN:STANDARD
TZOFFSETFROM:-0400
TZOFFSETTO:-0500
TZNAME:EST
DTSTART:20231105T060000
END:STANDARD
BEGIN:DAYLIGHT
TZOFFSETFROM:-0500
TZOFFSETTO:-0400
TZNAME:EDT
DTSTART:20240310T070000
END:DAYLIGHT
BEGIN:STANDARD
TZOFFSETFROM:-0400
TZOFFSETTO:-0500
TZNAME:EST
DTSTART:20241103T060000
END:STANDARD
BEGIN:DAYLIGHT
TZOFFSETFROM:-0500
TZOFFSETTO:-0400
TZNAME:EDT
DTSTART:20250309T070000
END:DAYLIGHT
BEGIN:STANDARD
TZOFFSETFROM:-0400
TZOFFSETTO:-0500
TZNAME:EST
DTSTART:20251102T060000
END:STANDARD
END:VTIMEZONE
BEGIN:VEVENT
DTSTART;VALUE=DATE:20260218
DTEND;VALUE=DATE:20260222
DTSTAMP:20260420T013934
CREATED:20251102T220138Z
LAST-MODIFIED:20251102T220151Z
UID:10000308-1771372800-1771718399@oncodaily.com
SUMMARY:Targeted Therapies of Lung Cancer 2026
DESCRIPTION:The Targeted Therapies of Lung Cancer (TTLC) 2026 Meeting\, organized by the International Association for the Study of Lung Cancer (IASLC)\, is a premier event for experts dedicated to advancing lung cancer care. The meeting is scheduled to begin on February 18\, 2026\, and will be held in Huntington Beach\, California. The conference is a must-attend event that brings together leading researchers\, clinicians\, and industry experts to share the latest breakthroughs in clinical research\, focusing on innovation in targeted therapies for thoracic malignancies. \nYou can find more posts featuring IASLC on OncoDaily.
URL:https://oncodaily.com/event/targeted-therapies-402227
LOCATION:Hyatt Regency Huntington Beach Resort And Spa\, 21500 Pacific Coast Hwy\, Huntington Beach\, CA\, 92648\, United States
ATTACH;FMTTYPE=image/jpeg:https://oncodaily.com/pub/uploads/2025/10/IASLC.jpg
ORGANIZER;CN="International Association for the Study of Lung Cancer (IASCL)":MAILTO:info@iaslc.org
END:VEVENT
BEGIN:VEVENT
DTSTART;TZID=Europe/Madrid:20250906T080000
DTEND;TZID=Europe/Madrid:20250909T170000
DTSTAMP:20260420T013934
CREATED:20250228T122306Z
LAST-MODIFIED:20250803T153722Z
UID:10000162-1757145600-1757437200@oncodaily.com
SUMMARY:The 2025 IASLC World Conference on Lung Cancer
DESCRIPTION:The 2025 IASLC World Conference on Lung Cancer (WCLC) will be held at the Fira de Barcelona Gran Via in Barcelona\, Spain\, from September 6–9\, 2025. \nThis major event will gather clinicians\, researchers\, and industry leaders from around the world to discuss the latest advancements in lung cancer treatment and research. The conference will feature a variety of sessions\, presentations\, and discussions on cutting-edge topics in thoracic oncology\, providing an ideal platform for professionals to exchange knowledge\, explore new trends\, and collaborate on innovative solutions for lung cancer care. \nRegistration is open for the event. \n Abstract Submission Deadline is April 4\, 2025.
URL:https://oncodaily.com/event/249110
LOCATION:Fira de Barcelona Gran Via\, https://www.firabarcelona.com/en/gran-via/\, Barcelona\, Spain
ATTACH;FMTTYPE=image/jpeg:https://oncodaily.com/pub/uploads/2025/02/WhatsApp-Image-2025-03-03-at-14.34.18-e1754235490911.jpeg
ORGANIZER;CN="International Association for the Study of Lung Cancer (IASCL)":MAILTO:info@iaslc.org
END:VEVENT
BEGIN:VEVENT
DTSTART;TZID=Europe/Helsinki:20250326T110000
DTEND;TZID=Europe/Helsinki:20250329T140000
DTSTAMP:20260420T013934
CREATED:20241009T161846Z
LAST-MODIFIED:20250607T194859Z
UID:10000025-1742986800-1743256800@oncodaily.com
SUMMARY:European Lung Cancer Congress 2025
DESCRIPTION:The European Lung Cancer Congress 2025 will be held in Paris\, France\, on March 26-29\, 2025\, with an online option available through the LIVE Plus format. \nThis congress unites leading specialists in thoracic oncology—medical oncologists\, radiation oncologists\, thoracic surgeons\, and more—to share knowledge and improve lung cancer care. Attendees can look forward to a dynamic program filled with valuable insights and networking opportunities. The event is organized by the European Society for Medical Oncology and the International Association for the Study of Lung Cancer. \nRegistration is still open for the event. \nFind more information featuring ELCC2024 at OncoDaily.com.
URL:https://oncodaily.com/event/161364
LOCATION:Paris Expo Porte de Versailles\, 2 Pl. de la Prte de Versailles\, Paris\, 92170\, France
ATTACH;FMTTYPE=image/jpeg:https://oncodaily.com/pub/uploads/2024/10/Untitled-3-Recovered.jpg
ORGANIZER;CN="European Society For Medical Oncology (ESMO)":MAILTO:esmo@esmo.org
END:VEVENT
BEGIN:VEVENT
DTSTART;TZID=America/New_York:20241114T080000
DTEND;TZID=America/New_York:20241116T163000
DTSTAMP:20260420T013934
CREATED:20241007T145835Z
LAST-MODIFIED:20250608T081857Z
UID:10000013-1731571200-1731774600@oncodaily.com
SUMMARY:2024 Latin America Conference on Lung Cancer
DESCRIPTION:The IASLC Latin America Conference on Lung Cancer (LALCA24) will be held at the Grand Hyatt Bogotá in Bogotá\, Colombia on November 14-16. \nLALCA is a vibrant conference with a rich history that will showcase the latest research\, a variety of relevant topics\, and educational sessions led by top experts. \nThis event offers an excellent chance to connect with professionals from different fields who are dedicated to thoracic cancers\, while also gaining insights into the newest advancements in prevention\, detection\, and treatment through innovative data presentations. \nThe event is organized by the International Association for the Study of Lung Cancer (IASCL). \nFor more information featuring LALCA24 visit OncoDaily.com.
URL:https://oncodaily.com/event/159102
LOCATION:Grand Hyatt Bogotá\, Cl. 24a #57 – 60\, Bogota\, Colombia
ATTACH;FMTTYPE=image/jpeg:https://oncodaily.com/pub/uploads/2024/10/GPZHUUqaAAAnKPv.jpg
ORGANIZER;CN="International Association for the Study of Lung Cancer (IASCL)":MAILTO:info@iaslc.org
END:VEVENT
END:VCALENDAR