
BEGIN:VCALENDAR
VERSION:2.0
PRODID:-//Oncology News, Insights, Stories by OncoDaily - ECPv6.15.20//NONSGML v1.0//EN
CALSCALE:GREGORIAN
METHOD:PUBLISH
X-ORIGINAL-URL:https://oncodaily.com
X-WR-CALDESC:Events for Oncology News, Insights, Stories by OncoDaily
REFRESH-INTERVAL;VALUE=DURATION:PT1H
X-Robots-Tag:noindex
X-PUBLISHED-TTL:PT1H
BEGIN:VTIMEZONE
TZID:America/Halifax
BEGIN:DAYLIGHT
TZOFFSETFROM:-0400
TZOFFSETTO:-0300
TZNAME:ADT
DTSTART:20240310T060000
END:DAYLIGHT
BEGIN:STANDARD
TZOFFSETFROM:-0300
TZOFFSETTO:-0400
TZNAME:AST
DTSTART:20241103T050000
END:STANDARD
BEGIN:DAYLIGHT
TZOFFSETFROM:-0400
TZOFFSETTO:-0300
TZNAME:ADT
DTSTART:20250309T060000
END:DAYLIGHT
BEGIN:STANDARD
TZOFFSETFROM:-0300
TZOFFSETTO:-0400
TZNAME:AST
DTSTART:20251102T050000
END:STANDARD
BEGIN:DAYLIGHT
TZOFFSETFROM:-0400
TZOFFSETTO:-0300
TZNAME:ADT
DTSTART:20260308T060000
END:DAYLIGHT
BEGIN:STANDARD
TZOFFSETFROM:-0300
TZOFFSETTO:-0400
TZNAME:AST
DTSTART:20261101T050000
END:STANDARD
END:VTIMEZONE
BEGIN:VEVENT
DTSTART;TZID=America/Halifax:20251129T090000
DTEND;TZID=America/Halifax:20251129T180000
DTSTAMP:20260419T130120
CREATED:20251119T220408Z
LAST-MODIFIED:20251119T220429Z
UID:10000377-1764406800-1764439200@oncodaily.com
SUMMARY:Best of MASCC India 2025
DESCRIPTION:The Best of MASCC 2025 – 7th Annual Meeting of Supportive Care in Cancer is a one-day conference focused on advances in supportive care for cancer patients. \nOrganized by the Integrated Association of Supportive Care in Cancer (IASCC) in collaboration with MASCC and the Nag Foundation\, the event is scheduled for Saturday\, November 29th\, 2025\, running from 9:00 AM to 6:00 PM. \nThe conference will be held in-person at the Fairfield by Marriott\, Mumbai\, and operates under the theme: “Advancing Supportive Cancer Care: Evidence\, Innovation and Compassion.” The program is designed to bring together clinicians\, researchers\, and professionals to highlight key takeaways from the international MASCC 2025 meeting and showcase current research and innovative supportive care practices within India. \nRegister.
URL:https://oncodaily.com/event/best-of-mascc-412824
LOCATION:Fairfield by Marriott\, Mumbai\, Maharashtra\, India\, Samitha Industrial Estate\, Plot No. 16-B\, Andheri - Kurla Rd\, Saki Naka\, Mumbai\, Maharashtra\, 400072\, India
ATTACH;FMTTYPE=image/jpeg:https://oncodaily.com/pub/uploads/2025/11/Best-of-MASCC-India-2025.jpg
ORGANIZER;CN="Integrated Association of Supportive Care in Cancer":MAILTO:iasccmascc@gmail.com
END:VEVENT
END:VCALENDAR