
BEGIN:VCALENDAR
VERSION:2.0
PRODID:-//Oncology News, Insights, Stories by OncoDaily - ECPv6.15.20//NONSGML v1.0//EN
CALSCALE:GREGORIAN
METHOD:PUBLISH
X-WR-CALNAME:Oncology News, Insights, Stories by OncoDaily
X-ORIGINAL-URL:https://oncodaily.com
X-WR-CALDESC:Events for Oncology News, Insights, Stories by OncoDaily
REFRESH-INTERVAL;VALUE=DURATION:PT1H
X-Robots-Tag:noindex
X-PUBLISHED-TTL:PT1H
BEGIN:VTIMEZONE
TZID:America/Halifax
BEGIN:DAYLIGHT
TZOFFSETFROM:-0400
TZOFFSETTO:-0300
TZNAME:ADT
DTSTART:20250309T060000
END:DAYLIGHT
BEGIN:STANDARD
TZOFFSETFROM:-0300
TZOFFSETTO:-0400
TZNAME:AST
DTSTART:20251102T050000
END:STANDARD
BEGIN:DAYLIGHT
TZOFFSETFROM:-0400
TZOFFSETTO:-0300
TZNAME:ADT
DTSTART:20260308T060000
END:DAYLIGHT
BEGIN:STANDARD
TZOFFSETFROM:-0300
TZOFFSETTO:-0400
TZNAME:AST
DTSTART:20261101T050000
END:STANDARD
BEGIN:DAYLIGHT
TZOFFSETFROM:-0400
TZOFFSETTO:-0300
TZNAME:ADT
DTSTART:20270314T060000
END:DAYLIGHT
BEGIN:STANDARD
TZOFFSETFROM:-0300
TZOFFSETTO:-0400
TZNAME:AST
DTSTART:20271107T050000
END:STANDARD
END:VTIMEZONE
BEGIN:VEVENT
DTSTART;TZID=America/Halifax:20260407T100000
DTEND;TZID=America/Halifax:20260407T140000
DTSTAMP:20260422T134623
CREATED:20251210T223635Z
LAST-MODIFIED:20251210T223659Z
UID:10000472-1775556000-1775570400@oncodaily.com
SUMMARY:Application of External Control Arms in Oncology Drug Development
DESCRIPTION:The public meeting\, “Application of External Control Arms in Oncology Drug Development\,” hosted by Friends of Cancer Research\, is scheduled for Tuesday\, April 7\, 2026\, from 10:00 AM to 2:00 PM ET\, at The Ritz-Carlton in Washington\, DC\, with a virtual streaming option available. \nThe purpose of the meeting is to explore opportunities for advancing the use of External Control Arms (ECAs)\, which are constructed from existing data sources like prior clinical trials or real-world data\, to enhance oncology drug development\, particularly when traditional randomized trials are impractical. \nRegister.
URL:https://oncodaily.com/event/external-control-arms-425839
LOCATION:The Ritz-Carlton\, Washington\, D.C\, 1150 22nd St NW\, Washington\, DC\, 20037\, United States
ATTACH;FMTTYPE=image/webp:https://oncodaily.com/pub/uploads/2025/12/ODD.webp
END:VEVENT
BEGIN:VEVENT
DTSTART;TZID=America/Halifax:20260219T120000
DTEND;TZID=America/Halifax:20260219T130000
DTSTAMP:20260422T134623
CREATED:20251210T223125Z
LAST-MODIFIED:20251210T223148Z
UID:10000471-1771502400-1771506000@oncodaily.com
SUMMARY:Advocates Webinar: Modernizing Oncology Endpoints
DESCRIPTION:The Advocates Webinar: Modernizing Oncology Endpoints\, hosted virtually by Friends of Cancer Research (Friends)\, is a free\, advocates-focused session scheduled for Thursday\, February 19\, 2026\, from 12:00 PM to 1:00 PM ET. \nThe webinar will build upon the public meeting held earlier in the month\, focusing on translating complex scientific and policy discussions into accessible\, advocacy-focused insights concerning two emerging tools in cancer drug development: circulating tumor DNA (ctDNA) and Artificial Intelligence (AI)-based tumor assessment tools. The goal is to explain how these biomarkers and technologies can accelerate evidence generation and clinical trial efficiency to support earlier patient access to treatments. \nRegister.
URL:https://oncodaily.com/event/advocates-webinar-425835
ATTACH;FMTTYPE=image/webp:https://oncodaily.com/pub/uploads/2025/12/webinar.webp
LOCATION:
END:VEVENT
BEGIN:VEVENT
DTSTART;TZID=America/Halifax:20260205T093000
DTEND;TZID=America/Halifax:20260205T140000
DTSTAMP:20260422T134623
CREATED:20251209T220127Z
LAST-MODIFIED:20251209T220218Z
UID:10000470-1770283800-1770300000@oncodaily.com
SUMMARY:Modernizing Oncology Endpoints: Pathways for Evidence and Policy
DESCRIPTION:The public meeting\, “Modernizing Oncology Endpoints: Pathways for Evidence and Policy\,” hosted by Friends of Cancer Research\, is scheduled for Thursday\, February 5\, 2026\, from 9:30 AM to 2:00 PM ET. \nThis event\, which will be held at The Ritz-Carlton in Washington\, DC\, and streamed virtually\, is focused on reviewing the current landscape and application of evolving early endpoints in oncology. The meeting will explore how novel measurements\, such as ctDNA and AI-based tumor assessments (including insights from Friends’ ai.RECIST and ctMoniTR Projects)\, can improve clinical trial efficiency\, inform regulatory decision-making\, and advance future policy frameworks. \nRegister.
URL:https://oncodaily.com/event/modernizing-oncology-endpoints-425091
LOCATION:The Ritz-Carlton\, Washington\, D.C\, 1150 22nd St NW\, Washington\, DC\, 20037\, United States
ATTACH;FMTTYPE=image/webp:https://oncodaily.com/pub/uploads/2025/12/Modernizing-Oncology-Endpoints.webp
END:VEVENT
END:VCALENDAR