
BEGIN:VCALENDAR
VERSION:2.0
PRODID:-//Oncology News, Insights, Stories by OncoDaily - ECPv6.15.20//NONSGML v1.0//EN
CALSCALE:GREGORIAN
METHOD:PUBLISH
X-WR-CALNAME:Oncology News, Insights, Stories by OncoDaily
X-ORIGINAL-URL:https://oncodaily.com
X-WR-CALDESC:Events for Oncology News, Insights, Stories by OncoDaily
REFRESH-INTERVAL;VALUE=DURATION:PT1H
X-Robots-Tag:noindex
X-PUBLISHED-TTL:PT1H
BEGIN:VTIMEZONE
TZID:America/Halifax
BEGIN:DAYLIGHT
TZOFFSETFROM:-0400
TZOFFSETTO:-0300
TZNAME:ADT
DTSTART:20250309T060000
END:DAYLIGHT
BEGIN:STANDARD
TZOFFSETFROM:-0300
TZOFFSETTO:-0400
TZNAME:AST
DTSTART:20251102T050000
END:STANDARD
BEGIN:DAYLIGHT
TZOFFSETFROM:-0400
TZOFFSETTO:-0300
TZNAME:ADT
DTSTART:20260308T060000
END:DAYLIGHT
BEGIN:STANDARD
TZOFFSETFROM:-0300
TZOFFSETTO:-0400
TZNAME:AST
DTSTART:20261101T050000
END:STANDARD
BEGIN:DAYLIGHT
TZOFFSETFROM:-0400
TZOFFSETTO:-0300
TZNAME:ADT
DTSTART:20270314T060000
END:DAYLIGHT
BEGIN:STANDARD
TZOFFSETFROM:-0300
TZOFFSETTO:-0400
TZNAME:AST
DTSTART:20271107T050000
END:STANDARD
END:VTIMEZONE
BEGIN:VEVENT
DTSTART;VALUE=DATE:20260619
DTEND;VALUE=DATE:20260624
DTSTAMP:20260419T144940
CREATED:20260223T162028Z
LAST-MODIFIED:20260224T114227Z
UID:10000580-1781827200-1782259199@oncodaily.com
SUMMARY:Multidisciplinary Masterclass in Oncology: Summer edition - European School of Oncology
DESCRIPTION:The Multidisciplinary Masterclass in Oncology – Summer Edition organized by the European School of Oncology (ESO) will take place from 19–23 June 2026 at Hygeia Mitera Hospital in Athens\, Greece.  \nThis intensive\, practice-oriented course is tailored for medical oncologists\, surgeons\, radiation oncologists\, and pathologists with 2–3 years of experience\, aiming to enhance their expertise in the multidisciplinary management of cancer. \nParticipants will engage in interactive case discussions\, practical exercises\, and collaborative learning\, gaining insights into advanced treatment strategies while fostering international networking and knowledge exchange.
URL:https://oncodaily.com/event/european-school-of-oncology-441548
LOCATION:Hygeia Mitera Hospital\, 6 Erythrou Stavrou Street & Kifissias Avenue\, Marousi\, Athens\, 15123\, Greece
ATTACH;FMTTYPE=image/webp:https://oncodaily.com/pub/uploads/2026/01/BeFunky-collage-2026-01-15T202017837-Picsart-AiImageEnhancer.webp
END:VEVENT
END:VCALENDAR