
BEGIN:VCALENDAR
VERSION:2.0
PRODID:-//Oncology News, Insights, Stories by OncoDaily - ECPv6.15.20//NONSGML v1.0//EN
CALSCALE:GREGORIAN
METHOD:PUBLISH
X-WR-CALNAME:Oncology News, Insights, Stories by OncoDaily
X-ORIGINAL-URL:https://oncodaily.com
X-WR-CALDESC:Events for Oncology News, Insights, Stories by OncoDaily
REFRESH-INTERVAL;VALUE=DURATION:PT1H
X-Robots-Tag:noindex
X-PUBLISHED-TTL:PT1H
BEGIN:VTIMEZONE
TZID:America/New_York
BEGIN:DAYLIGHT
TZOFFSETFROM:-0500
TZOFFSETTO:-0400
TZNAME:EDT
DTSTART:20240310T070000
END:DAYLIGHT
BEGIN:STANDARD
TZOFFSETFROM:-0400
TZOFFSETTO:-0500
TZNAME:EST
DTSTART:20241103T060000
END:STANDARD
BEGIN:DAYLIGHT
TZOFFSETFROM:-0500
TZOFFSETTO:-0400
TZNAME:EDT
DTSTART:20250309T070000
END:DAYLIGHT
BEGIN:STANDARD
TZOFFSETFROM:-0400
TZOFFSETTO:-0500
TZNAME:EST
DTSTART:20251102T060000
END:STANDARD
BEGIN:DAYLIGHT
TZOFFSETFROM:-0500
TZOFFSETTO:-0400
TZNAME:EDT
DTSTART:20260308T070000
END:DAYLIGHT
BEGIN:STANDARD
TZOFFSETFROM:-0400
TZOFFSETTO:-0500
TZNAME:EST
DTSTART:20261101T060000
END:STANDARD
END:VTIMEZONE
BEGIN:VTIMEZONE
TZID:America/Halifax
BEGIN:DAYLIGHT
TZOFFSETFROM:-0400
TZOFFSETTO:-0300
TZNAME:ADT
DTSTART:20240310T060000
END:DAYLIGHT
BEGIN:STANDARD
TZOFFSETFROM:-0300
TZOFFSETTO:-0400
TZNAME:AST
DTSTART:20241103T050000
END:STANDARD
BEGIN:DAYLIGHT
TZOFFSETFROM:-0400
TZOFFSETTO:-0300
TZNAME:ADT
DTSTART:20250309T060000
END:DAYLIGHT
BEGIN:STANDARD
TZOFFSETFROM:-0300
TZOFFSETTO:-0400
TZNAME:AST
DTSTART:20251102T050000
END:STANDARD
BEGIN:DAYLIGHT
TZOFFSETFROM:-0400
TZOFFSETTO:-0300
TZNAME:ADT
DTSTART:20260308T060000
END:DAYLIGHT
BEGIN:STANDARD
TZOFFSETFROM:-0300
TZOFFSETTO:-0400
TZNAME:AST
DTSTART:20261101T050000
END:STANDARD
END:VTIMEZONE
BEGIN:VEVENT
DTSTART;TZID=America/New_York:20251027T080000
DTEND;TZID=America/New_York:20251029T170000
DTSTAMP:20260421T041948
CREATED:20250207T190006Z
LAST-MODIFIED:20250607T192626Z
UID:10000134-1761552000-1761757200@oncodaily.com
SUMMARY:The 22nd SIO International Conference
DESCRIPTION:The 22nd SIO International Conference\, hosted by Dana-Farber Cancer Institute\, will take place from October 27 to 29\, 2025 in Boston\, Massachusetts. The theme of the conference\, “The Future of Integrative Oncology: Bridging Cultures\, Embracing Innovation\, and Fostering Unity\,” will focus on advancing comprehensive cancer care by integrating innovative therapies and practices. Conference co-chairs Ting Bao and Channing Paller will lead a program featuring keynote lectures\, plenaries\, concurrent sessions\, and workshops that explore evidence-based integrative therapies and innovative research methodologies. \nConfirmed keynote speakers include Helene Langevin\, discussing expressive art and cancer\, Jud Brewer on mindfulness and imaging\, Hal Gunn focusing on supportive oncology\, and Christina Dieli-Conwright\, addressing diversity in clinical trials. This conference offers a unique opportunity to connect with leading practitioners and researchers in integrative oncology and to explore new approaches for enhancing cancer treatment and care. \nDeadline to submit is February 16\, 2025.
URL:https://oncodaily.com/event/240214
LOCATION:Boston\, Boston\, MA\, United States
ATTACH;FMTTYPE=image/jpeg:https://oncodaily.com/pub/uploads/2025/01/1737644445721.jpg
END:VEVENT
BEGIN:VEVENT
DTSTART;TZID=America/Halifax:20251027T080000
DTEND;TZID=America/Halifax:20251027T094500
DTSTAMP:20260421T041948
CREATED:20250820T133708Z
LAST-MODIFIED:20250820T134023Z
UID:10000248-1761552000-1761558300@oncodaily.com
SUMMARY:SIO 2025 Pre-Conference Workshop: Practicing the New Healthcare Intelligence in Oncology
DESCRIPTION:The workshop “Practicing the New Healthcare Intelligence in Oncology: Neuro-Somatic\, Noetic Medicine\, and Holistic Care in Action” will be held on October 27\, 2025 at the SIO 2025 Annual Meeting.\nOrginized by the Society for Integrative Oncology (SIO) in collaboration with the Dana-Farber Cancer Institute\, this hands-on session is designed for oncology healthcare professionals seeking to integrate neuro-somatic and noetic medicine principles into cancer care. It offers practical approaches to assess patients’ neurobiological states\, expand their coping abilities for stress and anxiety\, and incorporate holistic healing narratives\, including spiritual and mental health dimensions. The workshop also emphasizes self-care techniques for healthcare providers. Participants will gain evidence-based knowledge to enhance both patient care and personal wellbeing. \nThis workshop presents a unique opportunity for oncologists\, oncology nurses\, and cancer care professionals to deepen their understanding of holistic approaches and apply them within their clinical practice.
URL:https://oncodaily.com/event/sio-2025-352362
LOCATION:Boston\, Boston\, MA\, United States
ATTACH;FMTTYPE=image/png:https://oncodaily.com/pub/uploads/2025/08/OncoDaily-41.png
END:VEVENT
END:VCALENDAR