
BEGIN:VCALENDAR
VERSION:2.0
PRODID:-//Oncology News, Insights, Stories by OncoDaily - ECPv6.15.20//NONSGML v1.0//EN
CALSCALE:GREGORIAN
METHOD:PUBLISH
X-WR-CALNAME:Oncology News, Insights, Stories by OncoDaily
X-ORIGINAL-URL:https://oncodaily.com
X-WR-CALDESC:Events for Oncology News, Insights, Stories by OncoDaily
REFRESH-INTERVAL;VALUE=DURATION:PT1H
X-Robots-Tag:noindex
X-PUBLISHED-TTL:PT1H
BEGIN:VTIMEZONE
TZID:America/Halifax
BEGIN:DAYLIGHT
TZOFFSETFROM:-0400
TZOFFSETTO:-0300
TZNAME:ADT
DTSTART:20250309T060000
END:DAYLIGHT
BEGIN:STANDARD
TZOFFSETFROM:-0300
TZOFFSETTO:-0400
TZNAME:AST
DTSTART:20251102T050000
END:STANDARD
BEGIN:DAYLIGHT
TZOFFSETFROM:-0400
TZOFFSETTO:-0300
TZNAME:ADT
DTSTART:20260308T060000
END:DAYLIGHT
BEGIN:STANDARD
TZOFFSETFROM:-0300
TZOFFSETTO:-0400
TZNAME:AST
DTSTART:20261101T050000
END:STANDARD
BEGIN:DAYLIGHT
TZOFFSETFROM:-0400
TZOFFSETTO:-0300
TZNAME:ADT
DTSTART:20270314T060000
END:DAYLIGHT
BEGIN:STANDARD
TZOFFSETFROM:-0300
TZOFFSETTO:-0400
TZNAME:AST
DTSTART:20271107T050000
END:STANDARD
END:VTIMEZONE
BEGIN:VEVENT
DTSTART;VALUE=DATE:20260512
DTEND;VALUE=DATE:20260514
DTSTAMP:20260420T043201
CREATED:20251224T120457Z
LAST-MODIFIED:20251224T120506Z
UID:10000526-1778544000-1778716799@oncodaily.com
SUMMARY:2026 International Drug Repurposing Conference (iDR26): Navigating the Future
DESCRIPTION:The 2026 International Drug Repurposing Conference (iDR26): Navigating the Future is a global scientific forum taking place from May 12–13\, 2026\, in Brussels\, Belgium. \nCo-organized by the REMEDi4ALL consortium and Beacon for Rare Diseases\, the conference focuses on technical advancements in AI-driven drug discovery\, biosimilars\, and biologics\, alongside the regulatory and policy frameworks necessary for patient-centric medicine repurposing. \nThe agenda features four specialized tracks – Rare Diseases\, Industry\, Drug Discovery\, and the Repurposing Community – designed to bridge the gap between academic research\, regulatory approval\, and equitable patient access. \nRegister.
URL:https://oncodaily.com/event/idr26-433318
LOCATION:Maison de la Poste\, Rue Picard 7\, 1000 Brussels\, Belgium\, Brussels\, Brussels-Capital Region\, 1000\, Belgium
ATTACH;FMTTYPE=image/webp:https://oncodaily.com/pub/uploads/2025/12/idr2.webp
ORGANIZER;CN="REMEDi4ALL":MAILTO:REMEDi4ALL@zonmw.nl
END:VEVENT
END:VCALENDAR