
BEGIN:VCALENDAR
VERSION:2.0
PRODID:-//Oncology News, Insights, Stories by OncoDaily - ECPv6.15.20//NONSGML v1.0//EN
CALSCALE:GREGORIAN
METHOD:PUBLISH
X-WR-CALNAME:Oncology News, Insights, Stories by OncoDaily
X-ORIGINAL-URL:https://oncodaily.com
X-WR-CALDESC:Events for Oncology News, Insights, Stories by OncoDaily
REFRESH-INTERVAL;VALUE=DURATION:PT1H
X-Robots-Tag:noindex
X-PUBLISHED-TTL:PT1H
BEGIN:VTIMEZONE
TZID:America/Halifax
BEGIN:DAYLIGHT
TZOFFSETFROM:-0400
TZOFFSETTO:-0300
TZNAME:ADT
DTSTART:20250309T060000
END:DAYLIGHT
BEGIN:STANDARD
TZOFFSETFROM:-0300
TZOFFSETTO:-0400
TZNAME:AST
DTSTART:20251102T050000
END:STANDARD
BEGIN:DAYLIGHT
TZOFFSETFROM:-0400
TZOFFSETTO:-0300
TZNAME:ADT
DTSTART:20260308T060000
END:DAYLIGHT
BEGIN:STANDARD
TZOFFSETFROM:-0300
TZOFFSETTO:-0400
TZNAME:AST
DTSTART:20261101T050000
END:STANDARD
BEGIN:DAYLIGHT
TZOFFSETFROM:-0400
TZOFFSETTO:-0300
TZNAME:ADT
DTSTART:20270314T060000
END:DAYLIGHT
BEGIN:STANDARD
TZOFFSETFROM:-0300
TZOFFSETTO:-0400
TZNAME:AST
DTSTART:20271107T050000
END:STANDARD
END:VTIMEZONE
BEGIN:VEVENT
DTSTART;VALUE=DATE:20261204
DTEND;VALUE=DATE:20261207
DTSTAMP:20260420T025344
CREATED:20251119T213135Z
LAST-MODIFIED:20251119T213154Z
UID:10000374-1796342400-1796601599@oncodaily.com
SUMMARY:ASGO 2026
DESCRIPTION:The ASGO 2026 Meeting\, which is the Annual Meeting of the Asian Society of Gynecologic Oncology\, is scheduled to take place from December 4–6\, 2026. This major oncology conference will be hosted at the Shanghai International Convention Center in Shanghai\, China. \nThe meeting serves as a central platform for the Asian Society of Gynecologic Oncology (ASGO)\, an organization established in 2008\, to advance the study\, prevention\, and treatment of gynecological cancers through scientific exchange and regional collaboration.
URL:https://oncodaily.com/event/asgo-2026-412811
LOCATION:Shanghai International Convention Center\, 2727 Binjiang Avenue\, LuJiaZui\, Pudong Xinqu\, Shanghai\, Shanghai\, 200000\, China
ATTACH;FMTTYPE=image/png:https://oncodaily.com/pub/uploads/2025/11/ASGO-2026.png
ORGANIZER;CN="Asian Society of Gynecologic Oncology":MAILTO:adminoffice@asiansgo.org
END:VEVENT
END:VCALENDAR