
BEGIN:VCALENDAR
VERSION:2.0
PRODID:-//Oncology News, Insights, Stories by OncoDaily - ECPv6.15.20//NONSGML v1.0//EN
CALSCALE:GREGORIAN
METHOD:PUBLISH
X-ORIGINAL-URL:https://oncodaily.com
X-WR-CALDESC:Events for Oncology News, Insights, Stories by OncoDaily
REFRESH-INTERVAL;VALUE=DURATION:PT1H
X-Robots-Tag:noindex
X-PUBLISHED-TTL:PT1H
BEGIN:VTIMEZONE
TZID:America/Halifax
BEGIN:DAYLIGHT
TZOFFSETFROM:-0400
TZOFFSETTO:-0300
TZNAME:ADT
DTSTART:20240310T060000
END:DAYLIGHT
BEGIN:STANDARD
TZOFFSETFROM:-0300
TZOFFSETTO:-0400
TZNAME:AST
DTSTART:20241103T050000
END:STANDARD
BEGIN:DAYLIGHT
TZOFFSETFROM:-0400
TZOFFSETTO:-0300
TZNAME:ADT
DTSTART:20250309T060000
END:DAYLIGHT
BEGIN:STANDARD
TZOFFSETFROM:-0300
TZOFFSETTO:-0400
TZNAME:AST
DTSTART:20251102T050000
END:STANDARD
BEGIN:DAYLIGHT
TZOFFSETFROM:-0400
TZOFFSETTO:-0300
TZNAME:ADT
DTSTART:20260308T060000
END:DAYLIGHT
BEGIN:STANDARD
TZOFFSETFROM:-0300
TZOFFSETTO:-0400
TZNAME:AST
DTSTART:20261101T050000
END:STANDARD
END:VTIMEZONE
BEGIN:VEVENT
DTSTART;VALUE=DATE:20251126
DTEND;VALUE=DATE:20251127
DTSTAMP:20260422T062300
CREATED:20251118T100945Z
LAST-MODIFIED:20251118T101020Z
UID:10000370-1764115200-1764201599@oncodaily.com
SUMMARY:APODDC vMTB No. 2 - Strategies for Genitorurinary Treatment
DESCRIPTION:The Asia-Pacific Oncology Drug Development Consortium (APODDC) is hosting its 2nd Virtual Molecular Tumour Board (vMTB). This complimentary\, specialized webinar is scheduled for Wednesday\, November 26\, 2025\, running from 4:00 PM to 5:15 PM (GMT+8). The session is highly relevant for professionals across the region interested in cutting-edge oncology practices. \nThe second session of the vMTB will be hosted by executive member Prof. Toshio Shimizu\, and will feature expert insights from Dr. Tahlia Scheinberg and A/Prof. Ben Tran. The speakers will concentrate on practical profiling strategies and treatment planning used within the field of genitourinary cancers\, specifically using detailed bladder and prostate cancer case studies to illustrate their points. \nRegister\,
URL:https://oncodaily.com/event/apoddc-411762
ATTACH;FMTTYPE=image/png:https://oncodaily.com/pub/uploads/2025/11/APODDC.png
END:VEVENT
END:VCALENDAR