
BEGIN:VCALENDAR
VERSION:2.0
PRODID:-//Oncology News, Insights, Stories by OncoDaily - ECPv6.15.20//NONSGML v1.0//EN
CALSCALE:GREGORIAN
METHOD:PUBLISH
X-WR-CALNAME:Oncology News, Insights, Stories by OncoDaily
X-ORIGINAL-URL:https://oncodaily.com
X-WR-CALDESC:Events for Oncology News, Insights, Stories by OncoDaily
REFRESH-INTERVAL;VALUE=DURATION:PT1H
X-Robots-Tag:noindex
X-PUBLISHED-TTL:PT1H
BEGIN:VTIMEZONE
TZID:America/Halifax
BEGIN:DAYLIGHT
TZOFFSETFROM:-0400
TZOFFSETTO:-0300
TZNAME:ADT
DTSTART:20260308T060000
END:DAYLIGHT
BEGIN:STANDARD
TZOFFSETFROM:-0300
TZOFFSETTO:-0400
TZNAME:AST
DTSTART:20261101T050000
END:STANDARD
BEGIN:DAYLIGHT
TZOFFSETFROM:-0400
TZOFFSETTO:-0300
TZNAME:ADT
DTSTART:20270314T060000
END:DAYLIGHT
BEGIN:STANDARD
TZOFFSETFROM:-0300
TZOFFSETTO:-0400
TZNAME:AST
DTSTART:20271107T050000
END:STANDARD
BEGIN:DAYLIGHT
TZOFFSETFROM:-0400
TZOFFSETTO:-0300
TZNAME:ADT
DTSTART:20280312T060000
END:DAYLIGHT
BEGIN:STANDARD
TZOFFSETFROM:-0300
TZOFFSETTO:-0400
TZNAME:AST
DTSTART:20281105T050000
END:STANDARD
END:VTIMEZONE
BEGIN:VEVENT
DTSTART;VALUE=DATE:20271124
DTEND;VALUE=DATE:20271129
DTSTAMP:20260423T183633
CREATED:20251103T194027Z
LAST-MODIFIED:20251103T194131Z
UID:10000312-1827014400-1827446399@oncodaily.com
SUMMARY:World Cancer Leaders' Summit 2027
DESCRIPTION:The World Cancer Leaders’ Summit 2027 is a high-level policy event organized by the Union for International Cancer Control (UICC) and hosted by the National Cancer Institute of Kenya. The Summit will take place in Nairobi\, Kenya\, from 24 to 28 November 2027. This event brings together global decision-makers\, civil society leaders\, researchers\, and private sector partners to shape the global cancer agenda. Its return to Africa highlights the continent’s growing leadership role in cancer control\, providing a crucial platform for strategic dialogue and the sharing of innovative approaches to address the rising cancer burdens in African communities. The Summit will be held at the Kenyatta International Convention Centre (KICC)\, a landmark venue in the heart of Nairobi. \nYou can find more posts featuring the World Cancer Leaders’ Summit on OncoDaily.
URL:https://oncodaily.com/event/world-cancer-leaders-summit-402690
LOCATION:Kenyatta International Convention Centre\, Harambee Avenue\, City Square\, Nairobi\, 00100\, Kenya
ATTACH;FMTTYPE=image/jpeg:https://oncodaily.com/pub/uploads/2025/11/World-Cancer-Leaders-Summit.jpg
ORGANIZER;CN="Union for International Cancer Control":MAILTO:info@uicc.org
END:VEVENT
END:VCALENDAR